View In:
ArcGIS JavaScript
ArcGIS Online Map Viewer
ArcGIS Earth
Service Description: Contiene Usos Generales De La Tierra 1957: Habitación, Comercio Central, Industria, Comercio Industrial, Cultura, Social, Religiosa, Vivienda Flotante (Ranchos) Y Zonas Verdes. Plano Localización General. Plano Trazado Sobre Plano De Medellín De 1956. Plano En Color. El Conjunto De Planos Del Atlas De Medellín Informacion Básica Va Entre Los Planos E-9-1 Y E-9-55. Tienen Pasta, Están Almacenados Sueltos Protegidos En Maylar / Plano Transferido Desde El Centro De Documentación De Planeación En Junio De 2017, Conserva La Foliación De Origen
Name: ServiciosImagen/Plan_Regulador_Basica_1958
Description: Contiene Usos Generales De La Tierra 1957: Habitación, Comercio Central, Industria, Comercio Industrial, Cultura, Social, Religiosa, Vivienda Flotante (Ranchos) Y Zonas Verdes. Plano Localización General. Plano Trazado Sobre Plano De Medellín De 1956. Plano En Color. El Conjunto De Planos Del Atlas De Medellín Informacion Básica Va Entre Los Planos E-9-1 Y E-9-55. Tienen Pasta, Están Almacenados Sueltos Protegidos En Maylar / Plano Transferido Desde El Centro De Documentación De Planeación En Junio De 2017, Conserva La Foliación De Origen
Single Fused Map Cache: false
Extent:
XMin: -8419314.125001794
YMin: 686412.157220863
XMax: -8408233.651337968
YMax: 704566.3358030727
Spatial Reference: 102100
(3857)
Initial Extent:
XMin: -8419314.125001794
YMin: 686412.157220863
XMax: -8408233.651337968
YMax: 704566.3358030727
Spatial Reference: 102100
(3857)
Full Extent:
XMin: -8419314.125001794
YMin: 686412.157220863
XMax: -8408233.651337968
YMax: 704566.3358030727
Spatial Reference: 102100
(3857)
Pixel Size X: 2.229023066551105
Pixel Size Y: 5.898043723914759
Band Count: 3
Pixel Type: U8
RasterFunction Infos: {"rasterFunctionInfos": [{
"name": "None",
"description": "",
"help": ""
}]}
Mensuration Capabilities: Basic
Inspection Capabilities:
Has Histograms: true
Has Colormap: false
Has Multi Dimensions : false
Rendering Rule:
Min Scale: 0
Max Scale: 0
Resampling: false
Copyright Text: Departamento Administrativo de Planeación, Subdirección de Prospectiva e Información y Evaluación Estratégica.
Service Data Type: esriImageServiceDataTypeRGB
Min Values: 0, 0, 0
Max Values: 211, 190, 169
Mean Values: 170.97730872267758, 151.7067989507257, 117.23742924092825
Standard Deviation Values: 30.06693115582176, 30.404808184529536, 29.603749291932544
Object ID Field:
Fields:
None
Default Mosaic Method: Center
Allowed Mosaic Methods:
SortField:
SortValue: null
Mosaic Operator: First
Default Compression Quality: 75
Default Resampling Method: Bilinear
Max Record Count: null
Max Image Height: 4100
Max Image Width: 15000
Max Download Image Count: null
Max Mosaic Image Count: null
Allow Raster Function: true
Allow Copy: true
Allow Analysis: true
Allow Compute TiePoints: false
Supports Statistics: false
Supports Advanced Queries: false
Use StandardizedQueries: true
Raster Type Infos:
Name: Raster Dataset
Description: Supports all ArcGIS Raster Datasets
Help:
Has Raster Attribute Table: false
Edit Fields Info: null
Ownership Based AccessControl For Rasters: null
Child Resources:
Info
Histograms
Statistics
Key Properties
Legend
Raster Function Infos
Supported Operations:
Export Image
Identify
Measure
Compute Histograms
Compute Statistics Histograms
Get Samples
Compute Class Statistics
Query Boundary
Compute Pixel Location
Compute Angles
Validate
Project