{ "currentVersion": 11.3, "serviceDescription": "
Contiene Usos Generales De La Tierra 1957: Habitación, Comercio Central, Industria, Comercio Industrial, Cultura, Social, Religiosa, Vivienda Flotante (Ranchos) Y Zonas Verdes. Plano Localización General<\/span>. <\/span>Plano Trazado Sobre Plano De Medellín De 1956. Plano En Color. El Conjunto De Planos Del Atlas De Medellín Informacion Básica Va Entre Los Planos E-9-1 Y E-9-55. Tienen Pasta, Están Almacenados Sueltos Protegidos En Maylar / Plano Transferido Desde El Centro De Documentación De Planeación En Junio De 2017, Conserva La Foliación De Origen<\/span><\/span> <\/span><\/p><\/div><\/div><\/div>",
"name": "ServiciosImagen/Plan_Regulador_Basica_1958",
"description": " Contiene Usos Generales De La Tierra 1957: Habitación, Comercio Central, Industria, Comercio Industrial, Cultura, Social, Religiosa, Vivienda Flotante (Ranchos) Y Zonas Verdes. Plano Localización General<\/span>. <\/span>Plano Trazado Sobre Plano De Medellín De 1956. Plano En Color. El Conjunto De Planos Del Atlas De Medellín Informacion Básica Va Entre Los Planos E-9-1 Y E-9-55. Tienen Pasta, Están Almacenados Sueltos Protegidos En Maylar / Plano Transferido Desde El Centro De Documentación De Planeación En Junio De 2017, Conserva La Foliación De Origen<\/span><\/span> <\/span><\/p><\/div><\/div><\/div>",
"extent": {
"xmin": -8419314.125001794,
"ymin": 686412.157220863,
"xmax": -8408233.651337968,
"ymax": 704566.3358030727,
"spatialReference": {
"wkid": 102100,
"latestWkid": 3857
}
},
"initialExtent": {
"xmin": -8419314.125001794,
"ymin": 686412.157220863,
"xmax": -8408233.651337968,
"ymax": 704566.3358030727,
"spatialReference": {
"wkid": 102100,
"latestWkid": 3857
}
},
"fullExtent": {
"xmin": -8419314.125001794,
"ymin": 686412.157220863,
"xmax": -8408233.651337968,
"ymax": 704566.3358030727,
"spatialReference": {
"wkid": 102100,
"latestWkid": 3857
}
},
"sortableFields": "",
"bandCount": 3,
"pixelType": "U8",
"minValues": [
0,
0,
0
],
"maxValues": [
211,
190,
169
],
"meanValues": [
170.97730872267758,
151.7067989507257,
117.23742924092825
],
"stdvValues": [
30.06693115582176,
30.404808184529536,
29.603749291932544
],
"hasMultidimensions": false,
"pixelSizeX": 2.229023066551105,
"pixelSizeY": 5.898043723914759,
"meanPixelSize": 4.063533395232932,
"datasetFormat": "FGDBR",
"uncompressedSize": 45902214,
"blockWidth": 128,
"blockHeight": 128,
"compressionType": "NONE",
"bandNames": [
"Band_1",
"Band_2",
"Band_3"
],
"allowCopy": true,
"allowAnalysis": true,
"itemAccess": false,
"inspectionCapabilities": "",
"minPixelSize": 0,
"maxPixelSize": 0,
"copyrightText": "Departamento Administrativo de Planeación, Subdirección de Prospectiva e Información y Evaluación Estratégica.",
"serviceDataType": "esriImageServiceDataTypeRGB",
"serviceSourceType": "esriImageServiceSourceTypeDataset",
"objectIdField": "",
"fields": [],
"capabilities": "Mensuration,Image,Metadata",
"defaultMosaicMethod": "Center",
"allowedMosaicMethods": "",
"sortField": "",
"sortValue": null,
"sortAscending": true,
"mosaicOperator": "First",
"defaultCompressionQuality": 75,
"defaultResamplingMethod": "Bilinear",
"maxImageHeight": 4100,
"maxImageWidth": 15000,
"allowRasterFunction": true,
"rasterFunctionInfos": [
{
"name": "None",
"description": "",
"help": ""
}
],
"rasterTypeInfos": [
{
"name": "Raster Dataset",
"description": "Supports all ArcGIS Raster Datasets",
"help": ""
}
],
"mensurationCapabilities": "Basic",
"hasHistograms": true,
"hasColormap": false,
"hasRasterAttributeTable": false,
"minScale": 0,
"maxScale": 0,
"exportTilesAllowed": false,
"supportsStatistics": false,
"supportsAdvancedQueries": false,
"editFieldsInfo": null,
"ownershipBasedAccessControlForRasters": null,
"allowComputeTiePoints": false,
"useStandardizedQueries": true,
"advancedQueryCapabilities": {
"useStandardizedQueries": true,
"supportsStatistics": false,
"supportsOrderBy": false,
"supportsDistinct": false,
"supportsPagination": false
},
"spatialReference": {
"wkid": 102100,
"latestWkid": 3857
},
"resampling": false
}