View In:
ArcGIS JavaScript
ArcGIS Online Map Viewer
ArcGIS Earth
Service Description: ServiciosImagen/Ortofoto_Medellin_2024
Name: ServiciosImagen/Ortofoto_Medellin_2024
Description:
Single Fused Map Cache: false
Extent:
XMin: 4718419.051
YMin: 2240384.4359999998
XMax: 4726662.891
YMax: 2255535.556
Spatial Reference: 9377
(9377)
Initial Extent:
XMin: 4718419.051
YMin: 2240384.4359999998
XMax: 4726662.891
YMax: 2255535.556
Spatial Reference: 9377
(9377)
Full Extent:
XMin: 4718419.051
YMin: 2240384.4359999998
XMax: 4726662.891
YMax: 2255535.556
Spatial Reference: 9377
(9377)
Pixel Size X: 0.07999999999999856
Pixel Size Y: 0.08000000000000058
Band Count: 5
Pixel Type: U8
RasterFunction Infos: {"rasterFunctionInfos": [
{
"name": "Ortofoto_2024",
"description": "Ortofoto_2024",
"help": ""
},
{
"name": "None",
"description": "",
"help": ""
}
]}
Mensuration Capabilities: Basic
Inspection Capabilities:
Has Histograms: true
Has Colormap: false
Has Multi Dimensions : false
Rendering Rule:
Min Scale: 0
Max Scale: 0
Copyright Text:
Service Data Type: esriImageServiceDataTypeGeneric
Min Values: 0, 0, 0, 0, 0
Max Values: 255, 255, 255, 253, 255
Mean Values: 28.869490733048, 28.912335649542, 25.306074566987, 39.886011483591, 119.33369126437
Standard Deviation Values: 39.25270984808, 37.614088363134, 34.416754377571, 46.342360777453, 127.23820731958
Object ID Field:
Fields:
None
Default Mosaic Method: Center
Allowed Mosaic Methods:
SortField:
SortValue: null
Mosaic Operator: First
Default Compression Quality: 75
Default Resampling Method: Bilinear
Max Record Count: null
Max Image Height: 4100
Max Image Width: 15000
Max Download Image Count: null
Max Mosaic Image Count: null
Allow Raster Function: true
Allow Copy: true
Allow Analysis: true
Allow Compute TiePoints: false
Supports Statistics: false
Supports Advanced Queries: false
Use StandardizedQueries: true
Raster Type Infos:
Name: Raster Dataset
Description: Supports all ArcGIS Raster Datasets
Help:
Has Raster Attribute Table: false
Edit Fields Info: null
Ownership Based AccessControl For Rasters: null
Child Resources:
Info
Histograms
Statistics
Key Properties
Legend
Raster Function Infos
Supported Operations:
Export Image
Identify
Measure
Compute Histograms
Compute Statistics Histograms
Get Samples
Compute Class Statistics
Query Boundary
Compute Pixel Location
Compute Angles
Validate
Project