{
 "currentVersion": 11.3,
 "serviceDescription": "ServiciosImagen/Ortofoto_Medellin_2024",
 "name": "ServiciosImagen/Ortofoto_Medellin_2024",
 "description": "",
 "extent": {
  "xmin": 4718419.051,
  "ymin": 2240384.4359999998,
  "xmax": 4726662.891,
  "ymax": 2255535.556,
  "spatialReference": {
   "wkid": 9377,
   "latestWkid": 9377
  }
 },
 "initialExtent": {
  "xmin": 4718419.051,
  "ymin": 2240384.4359999998,
  "xmax": 4726662.891,
  "ymax": 2255535.556,
  "spatialReference": {
   "wkid": 9377,
   "latestWkid": 9377
  }
 },
 "fullExtent": {
  "xmin": 4718419.051,
  "ymin": 2240384.4359999998,
  "xmax": 4726662.891,
  "ymax": 2255535.556,
  "spatialReference": {
   "wkid": 9377,
   "latestWkid": 9377
  }
 },
 "sortableFields": "",
 "bandCount": 5,
 "pixelType": "U8",
 "minValues": [
  0,
  0,
  0,
  0,
  0
 ],
 "maxValues": [
  255,
  255,
  255,
  253,
  255
 ],
 "meanValues": [
  28.869490733048,
  28.912335649542,
  25.306074566987,
  39.886011483591,
  119.33369126437
 ],
 "stdvValues": [
  39.25270984808,
  37.614088363134,
  34.416754377571,
  46.342360777453,
  127.23820731958
 ],
 "hasMultidimensions": false,
 "pixelSizeX": 0.07999999999999856,
 "pixelSizeY": 0.08000000000000058,
 "meanPixelSize": 0.07999999999999957,
 "datasetFormat": "ECW",
 "uncompressedSize": 97580788360,
 "blockWidth": 256,
 "blockHeight": 256,
 "compressionType": "ECW",
 "bandNames": [
  "Band #0",
  "Band #1",
  "Band #2",
  "Band #3",
  "AllOpacity"
 ],
 "allowCopy": true,
 "allowAnalysis": true,
 "itemAccess": false,
 "inspectionCapabilities": "",
 "minPixelSize": 0,
 "maxPixelSize": 0,
 "copyrightText": "",
 "serviceDataType": "esriImageServiceDataTypeGeneric",
 "serviceSourceType": "esriImageServiceSourceTypeDataset",
 "objectIdField": "",
 "fields": [],
 "capabilities": "Image,Metadata,Mensuration",
 "defaultMosaicMethod": "Center",
 "allowedMosaicMethods": "",
 "sortField": "",
 "sortValue": null,
 "sortAscending": true,
 "mosaicOperator": "First",
 "defaultCompressionQuality": 75,
 "defaultResamplingMethod": "Bilinear",
 "maxImageHeight": 4100,
 "maxImageWidth": 15000,
 "allowRasterFunction": true,
 "rasterFunctionInfos": [
  {
   "name": "Ortofoto_2024",
   "description": "Ortofoto_2024",
   "help": ""
  },
  {
   "name": "None",
   "description": "",
   "help": ""
  }
 ],
 "rasterTypeInfos": [
  {
   "name": "Raster Dataset",
   "description": "Supports all ArcGIS Raster Datasets",
   "help": ""
  }
 ],
 "mensurationCapabilities": "Basic",
 "hasHistograms": true,
 "hasColormap": false,
 "hasRasterAttributeTable": false,
 "minScale": 0,
 "maxScale": 0,
 "exportTilesAllowed": false,
 "supportsStatistics": false,
 "supportsAdvancedQueries": false,
 "editFieldsInfo": null,
 "ownershipBasedAccessControlForRasters": null,
 "allowComputeTiePoints": false,
 "useStandardizedQueries": true,
 "advancedQueryCapabilities": {
  "useStandardizedQueries": true,
  "supportsStatistics": false,
  "supportsOrderBy": false,
  "supportsDistinct": false,
  "supportsPagination": false
 },
 "spatialReference": {
  "wkid": 9377,
  "latestWkid": 9377
 }
}
