View In:
ArcGIS JavaScript
ArcGIS Online Map Viewer
ArcGIS Earth
Service Description: ServiciosImagen/Ortofoto_Medellin_2019
Name: ServiciosImagen/Ortofoto_Medellin_2019
Description:
Single Fused Map Cache: false
Extent:
XMin: 818218.613304
YMin: 1173414.125564
XMax: 845784.0533040001
YMax: 1197067.805564
Spatial Reference: 102768
(6257)
Initial Extent:
XMin: 818218.613304
YMin: 1173414.125564
XMax: 845784.0533040001
YMax: 1197067.805564
Spatial Reference: 102768
(6257)
Full Extent:
XMin: 818218.613304
YMin: 1173414.125564
XMax: 845784.0533040001
YMax: 1197067.805564
Spatial Reference: 102768
(6257)
Pixel Size X: 0.08000000000000018
Pixel Size Y: 0.07999999999999978
Band Count: 5
Pixel Type: U8
RasterFunction Infos: {"rasterFunctionInfos": [
{
"name": "Ortofoto_Medellin_2019_RGB",
"description": "A raster function template.",
"help": ""
},
{
"name": "Ortofoto_Medellin_2019_IGB",
"description": "A raster function template.",
"help": ""
},
{
"name": "Ortofoto_Medellin_2019_RGI",
"description": "A raster function template.",
"help": ""
},
{
"name": "Ortofoto_Medellin_2019_RIB",
"description": "A raster function template.",
"help": ""
},
{
"name": "None",
"description": "",
"help": ""
}
]}
Mensuration Capabilities: Basic
Inspection Capabilities:
Has Histograms: true
Has Colormap: false
Has Multi Dimensions : false
Rendering Rule:
Min Scale: 0
Max Scale: 0
Resampling: false
Copyright Text:
Service Data Type: esriImageServiceDataTypeGeneric
Min Values: 0, 0, 0, 0, 0
Max Values: 255, 255, 255, 255, 255
Mean Values: 31.733033333784, 44.359175336787, 42.20779633132, 50.871057007732, 151.67140171423
Standard Deviation Values: 38.202536967229, 43.29332642393, 41.173708825377, 49.694926082815, 125.18783223138
Object ID Field:
Fields:
None
Default Mosaic Method: Center
Allowed Mosaic Methods:
SortField:
SortValue: null
Mosaic Operator: First
Default Compression Quality: 75
Default Resampling Method: Bilinear
Max Record Count: null
Max Image Height: 4100
Max Image Width: 15000
Max Download Image Count: null
Max Mosaic Image Count: null
Allow Raster Function: true
Allow Copy: true
Allow Analysis: true
Allow Compute TiePoints: false
Supports Statistics: false
Supports Advanced Queries: false
Use StandardizedQueries: true
Raster Type Infos:
Name: Raster Dataset
Description: Supports all ArcGIS Raster Datasets
Help:
Has Raster Attribute Table: false
Edit Fields Info: null
Ownership Based AccessControl For Rasters: null
Child Resources:
Info
Histograms
Statistics
Key Properties
Legend
Raster Function Infos
Supported Operations:
Export Image
Identify
Measure
Compute Histograms
Compute Statistics Histograms
Get Samples
Compute Class Statistics
Query Boundary
Compute Pixel Location
Compute Angles
Validate
Project