{
 "currentVersion": 11.3,
 "serviceDescription": "ServiciosImagen/Ortofoto_Medellin_2019",
 "name": "ServiciosImagen/Ortofoto_Medellin_2019",
 "description": "",
 "extent": {
  "xmin": 818218.613304,
  "ymin": 1173414.125564,
  "xmax": 845784.0533040001,
  "ymax": 1197067.805564,
  "spatialReference": {
   "wkid": 102768,
   "latestWkid": 6257
  }
 },
 "initialExtent": {
  "xmin": 818218.613304,
  "ymin": 1173414.125564,
  "xmax": 845784.0533040001,
  "ymax": 1197067.805564,
  "spatialReference": {
   "wkid": 102768,
   "latestWkid": 6257
  }
 },
 "fullExtent": {
  "xmin": 818218.613304,
  "ymin": 1173414.125564,
  "xmax": 845784.0533040001,
  "ymax": 1197067.805564,
  "spatialReference": {
   "wkid": 102768,
   "latestWkid": 6257
  }
 },
 "sortableFields": "",
 "bandCount": 5,
 "pixelType": "U8",
 "minValues": [
  0,
  0,
  0,
  0,
  0
 ],
 "maxValues": [
  255,
  255,
  255,
  255,
  255
 ],
 "meanValues": [
  31.733033333784,
  44.359175336787,
  42.20779633132,
  50.871057007732,
  151.67140171423
 ],
 "stdvValues": [
  38.202536967229,
  43.29332642393,
  41.173708825377,
  49.694926082815,
  125.18783223138
 ],
 "hasMultidimensions": false,
 "pixelSizeX": 0.08000000000000018,
 "pixelSizeY": 0.07999999999999978,
 "meanPixelSize": 0.07999999999999999,
 "datasetFormat": "ECW",
 "uncompressedSize": 509393825640,
 "blockWidth": 256,
 "blockHeight": 256,
 "compressionType": "ECW",
 "bandNames": [
  "Band #0",
  "Band #1",
  "Band #2",
  "Band #3",
  "AllOpacity"
 ],
 "allowCopy": true,
 "allowAnalysis": true,
 "itemAccess": false,
 "inspectionCapabilities": "",
 "minPixelSize": 0,
 "maxPixelSize": 0,
 "copyrightText": "",
 "serviceDataType": "esriImageServiceDataTypeGeneric",
 "serviceSourceType": "esriImageServiceSourceTypeDataset",
 "objectIdField": "",
 "fields": [],
 "capabilities": "Mensuration,Image,Metadata",
 "defaultMosaicMethod": "Center",
 "allowedMosaicMethods": "",
 "sortField": "",
 "sortValue": null,
 "sortAscending": true,
 "mosaicOperator": "First",
 "defaultCompressionQuality": 75,
 "defaultResamplingMethod": "Bilinear",
 "maxImageHeight": 4100,
 "maxImageWidth": 15000,
 "allowRasterFunction": true,
 "rasterFunctionInfos": [
  {
   "name": "Ortofoto_Medellin_2019_RGB",
   "description": "A raster function template.",
   "help": ""
  },
  {
   "name": "Ortofoto_Medellin_2019_IGB",
   "description": "A raster function template.",
   "help": ""
  },
  {
   "name": "Ortofoto_Medellin_2019_RGI",
   "description": "A raster function template.",
   "help": ""
  },
  {
   "name": "Ortofoto_Medellin_2019_RIB",
   "description": "A raster function template.",
   "help": ""
  },
  {
   "name": "None",
   "description": "",
   "help": ""
  }
 ],
 "rasterTypeInfos": [
  {
   "name": "Raster Dataset",
   "description": "Supports all ArcGIS Raster Datasets",
   "help": ""
  }
 ],
 "mensurationCapabilities": "Basic",
 "hasHistograms": true,
 "hasColormap": false,
 "hasRasterAttributeTable": false,
 "minScale": 0,
 "maxScale": 0,
 "exportTilesAllowed": false,
 "supportsStatistics": false,
 "supportsAdvancedQueries": false,
 "editFieldsInfo": null,
 "ownershipBasedAccessControlForRasters": null,
 "allowComputeTiePoints": false,
 "useStandardizedQueries": true,
 "advancedQueryCapabilities": {
  "useStandardizedQueries": true,
  "supportsStatistics": false,
  "supportsOrderBy": false,
  "supportsDistinct": false,
  "supportsPagination": false
 },
 "spatialReference": {
  "wkid": 102768,
  "latestWkid": 6257
 },
 "resampling": false
}
