View In:
ArcGIS JavaScript
ArcGIS Online Map Viewer
ArcGIS Earth
Service Description: ServiciosImagen/CARTOANTIOQUIA_2010_URBANO_Z6
Name: ServiciosImagen/CARTOANTIOQUIA_2010_URBANO_Z6
Description:
Single Fused Map Cache: false
Extent:
XMin: 843846.1270106563
YMin: 1197335.6876204892
XMax: 848292.8770106563
YMax: 1200247.637620489
Spatial Reference: 102768
(6257)
Initial Extent:
XMin: 843846.1270106563
YMin: 1197335.6876204892
XMax: 848292.8770106563
YMax: 1200247.637620489
Spatial Reference: 102768
(6257)
Full Extent:
XMin: 843846.1270106563
YMin: 1197335.6876204892
XMax: 848292.8770106563
YMax: 1200247.637620489
Spatial Reference: 102768
(6257)
Pixel Size X: 0.15
Pixel Size Y: 0.1499999999999976
Band Count: 4
Pixel Type: U8
RasterFunction Infos: {"rasterFunctionInfos": [
{
"name": "CARTOANTIOQUIA_AMVA_URBANO_Z2",
"description": "A raster function template.",
"help": ""
},
{
"name": "Ortofoto_Medellin_RGBI_NW",
"description": "A raster function template.",
"help": ""
},
{
"name": "Antioquia_Origen_Santuario_5000",
"description": "A raster function template.",
"help": ""
},
{
"name": "CARTOANTIOQUIA_AMVA_RURAL_5000",
"description": "A raster function template.",
"help": ""
},
{
"name": "None",
"description": "",
"help": ""
}
]}
Mensuration Capabilities: Basic
Inspection Capabilities:
Has Histograms: true
Has Colormap: false
Has Multi Dimensions : false
Rendering Rule:
Min Scale: 0
Max Scale: 0
Copyright Text:
Service Data Type: esriImageServiceDataTypeGeneric
Min Values: 1, 1, 1, 1
Max Values: 255, 255, 255, 175
Mean Values: 88.501959029676, 91.816540498706, 79.278508108893, 72.635884958966
Standard Deviation Values: 33.277772911321, 30.394023531208, 27.80584297974, 27.673759254431
Object ID Field:
Fields:
None
Default Mosaic Method: Center
Allowed Mosaic Methods:
SortField:
SortValue: null
Mosaic Operator: First
Default Compression Quality: 75
Default Resampling Method: Bilinear
Max Record Count: null
Max Image Height: 4100
Max Image Width: 15000
Max Download Image Count: null
Max Mosaic Image Count: null
Allow Raster Function: true
Allow Copy: true
Allow Analysis: true
Allow Compute TiePoints: false
Supports Statistics: false
Supports Advanced Queries: false
Use StandardizedQueries: true
Raster Type Infos:
Name: Raster Dataset
Description: Supports all ArcGIS Raster Datasets
Help:
Has Raster Attribute Table: false
Edit Fields Info: null
Ownership Based AccessControl For Rasters: null
Child Resources:
Info
Histograms
Statistics
Key Properties
Legend
Raster Function Infos
Supported Operations:
Export Image
Identify
Measure
Compute Histograms
Compute Statistics Histograms
Get Samples
Compute Class Statistics
Query Boundary
Compute Pixel Location
Compute Angles
Validate
Project