{
 "currentVersion": 11.3,
 "serviceDescription": "ServiciosImagen/CARTOANTIOQUIA_2010_URBANO_Z6",
 "name": "ServiciosImagen/CARTOANTIOQUIA_2010_URBANO_Z6",
 "description": "",
 "extent": {
  "xmin": 843846.1270106563,
  "ymin": 1197335.6876204892,
  "xmax": 848292.8770106563,
  "ymax": 1200247.637620489,
  "spatialReference": {
   "wkid": 102768,
   "latestWkid": 6257
  }
 },
 "initialExtent": {
  "xmin": 843846.1270106563,
  "ymin": 1197335.6876204892,
  "xmax": 848292.8770106563,
  "ymax": 1200247.637620489,
  "spatialReference": {
   "wkid": 102768,
   "latestWkid": 6257
  }
 },
 "fullExtent": {
  "xmin": 843846.1270106563,
  "ymin": 1197335.6876204892,
  "xmax": 848292.8770106563,
  "ymax": 1200247.637620489,
  "spatialReference": {
   "wkid": 102768,
   "latestWkid": 6257
  }
 },
 "sortableFields": "",
 "bandCount": 4,
 "pixelType": "U8",
 "minValues": [
  1,
  1,
  1,
  1
 ],
 "maxValues": [
  255,
  255,
  255,
  175
 ],
 "meanValues": [
  88.501959029676,
  91.816540498706,
  79.278508108893,
  72.635884958966
 ],
 "stdvValues": [
  33.277772911321,
  30.394023531208,
  27.80584297974,
  27.673759254431
 ],
 "hasMultidimensions": false,
 "pixelSizeX": 0.15,
 "pixelSizeY": 0.1499999999999976,
 "meanPixelSize": 0.1499999999999988,
 "datasetFormat": "IMAGINE Image",
 "uncompressedSize": 2301993540,
 "blockWidth": 128,
 "blockHeight": 128,
 "compressionType": "None",
 "bandNames": [
  "Layer_1",
  "Layer_2",
  "Layer_3",
  "Layer_4"
 ],
 "allowCopy": true,
 "allowAnalysis": true,
 "itemAccess": false,
 "inspectionCapabilities": "",
 "minPixelSize": 0,
 "maxPixelSize": 0,
 "copyrightText": "",
 "serviceDataType": "esriImageServiceDataTypeGeneric",
 "serviceSourceType": "esriImageServiceSourceTypeDataset",
 "objectIdField": "",
 "fields": [],
 "capabilities": "Mensuration,Image,Metadata",
 "defaultMosaicMethod": "Center",
 "allowedMosaicMethods": "",
 "sortField": "",
 "sortValue": null,
 "sortAscending": true,
 "mosaicOperator": "First",
 "defaultCompressionQuality": 75,
 "defaultResamplingMethod": "Bilinear",
 "maxImageHeight": 4100,
 "maxImageWidth": 15000,
 "allowRasterFunction": true,
 "rasterFunctionInfos": [
  {
   "name": "CARTOANTIOQUIA_AMVA_URBANO_Z2",
   "description": "A raster function template.",
   "help": ""
  },
  {
   "name": "Ortofoto_Medellin_RGBI_NW",
   "description": "A raster function template.",
   "help": ""
  },
  {
   "name": "Antioquia_Origen_Santuario_5000",
   "description": "A raster function template.",
   "help": ""
  },
  {
   "name": "CARTOANTIOQUIA_AMVA_RURAL_5000",
   "description": "A raster function template.",
   "help": ""
  },
  {
   "name": "None",
   "description": "",
   "help": ""
  }
 ],
 "rasterTypeInfos": [
  {
   "name": "Raster Dataset",
   "description": "Supports all ArcGIS Raster Datasets",
   "help": ""
  }
 ],
 "mensurationCapabilities": "Basic",
 "hasHistograms": true,
 "hasColormap": false,
 "hasRasterAttributeTable": false,
 "minScale": 0,
 "maxScale": 0,
 "exportTilesAllowed": false,
 "supportsStatistics": false,
 "supportsAdvancedQueries": false,
 "editFieldsInfo": null,
 "ownershipBasedAccessControlForRasters": null,
 "allowComputeTiePoints": false,
 "useStandardizedQueries": true,
 "advancedQueryCapabilities": {
  "useStandardizedQueries": true,
  "supportsStatistics": false,
  "supportsOrderBy": false,
  "supportsDistinct": false,
  "supportsPagination": false
 },
 "spatialReference": {
  "wkid": 102768,
  "latestWkid": 6257
 }
}
