View In:
ArcGIS JavaScript
ArcGIS Online Map Viewer
ArcGIS Earth
Service Description: ServiciosImagen/CARTOANTIOQUIA_2010_URBANO_Z4
Name: ServiciosImagen/CARTOANTIOQUIA_2010_URBANO_Z4
Description:
Single Fused Map Cache: false
Extent:
XMin: 839813.9727823306
YMin: 1190910.1370735473
XMax: 851481.5727823306
YMax: 1202609.5370735473
Spatial Reference: 102768
(6257)
Initial Extent:
XMin: 839813.9727823306
YMin: 1190910.1370735473
XMax: 851481.5727823306
YMax: 1202609.5370735473
Spatial Reference: 102768
(6257)
Full Extent:
XMin: 839813.9727823306
YMin: 1190910.1370735473
XMax: 851481.5727823306
YMax: 1202609.5370735473
Spatial Reference: 102768
(6257)
Pixel Size X: 0.1499999999999997
Pixel Size Y: 0.1499999999999988
Band Count: 4
Pixel Type: U8
RasterFunction Infos: {"rasterFunctionInfos": [
{
"name": "CARTOANTIOQUIA_AMVA_URBANO_Z2",
"description": "A raster function template.",
"help": ""
},
{
"name": "Ortofoto_Medellin_RGBI_NW",
"description": "A raster function template.",
"help": ""
},
{
"name": "Antioquia_Origen_Santuario_5000",
"description": "A raster function template.",
"help": ""
},
{
"name": "CARTOANTIOQUIA_AMVA_RURAL_5000",
"description": "A raster function template.",
"help": ""
},
{
"name": "None",
"description": "",
"help": ""
}
]}
Mensuration Capabilities: Basic
Inspection Capabilities:
Has Histograms: true
Has Colormap: false
Has Multi Dimensions : false
Rendering Rule:
Min Scale: 0
Max Scale: 0
Copyright Text:
Service Data Type: esriImageServiceDataTypeGeneric
Min Values: 1, 1, 1, 1
Max Values: 255, 255, 255, 223
Mean Values: 91.259040914318, 94.330705089407, 81.323051517513, 67.155452697961
Standard Deviation Values: 41.77697620485, 37.880229554018, 37.271739223732, 37.899823167496
Object ID Field:
Fields:
None
Default Mosaic Method: Center
Allowed Mosaic Methods:
SortField:
SortValue: null
Mosaic Operator: First
Default Compression Quality: 75
Default Resampling Method: Bilinear
Max Record Count: null
Max Image Height: 4100
Max Image Width: 15000
Max Download Image Count: null
Max Mosaic Image Count: null
Allow Raster Function: true
Allow Copy: true
Allow Analysis: true
Allow Compute TiePoints: false
Supports Statistics: false
Supports Advanced Queries: false
Use StandardizedQueries: true
Raster Type Infos:
Name: Raster Dataset
Description: Supports all ArcGIS Raster Datasets
Help:
Has Raster Attribute Table: false
Edit Fields Info: null
Ownership Based AccessControl For Rasters: null
Child Resources:
Info
Histograms
Statistics
Key Properties
Legend
Raster Function Infos
Supported Operations:
Export Image
Identify
Measure
Compute Histograms
Compute Statistics Histograms
Get Samples
Compute Class Statistics
Query Boundary
Compute Pixel Location
Compute Angles
Validate
Project