{
 "currentVersion": 11.3,
 "serviceDescription": "ServiciosImagen/CARTOANTIOQUIA_2010_URBANO_Z4",
 "name": "ServiciosImagen/CARTOANTIOQUIA_2010_URBANO_Z4",
 "description": "",
 "extent": {
  "xmin": 839813.9727823306,
  "ymin": 1190910.1370735473,
  "xmax": 851481.5727823306,
  "ymax": 1202609.5370735473,
  "spatialReference": {
   "wkid": 102768,
   "latestWkid": 6257
  }
 },
 "initialExtent": {
  "xmin": 839813.9727823306,
  "ymin": 1190910.1370735473,
  "xmax": 851481.5727823306,
  "ymax": 1202609.5370735473,
  "spatialReference": {
   "wkid": 102768,
   "latestWkid": 6257
  }
 },
 "fullExtent": {
  "xmin": 839813.9727823306,
  "ymin": 1190910.1370735473,
  "xmax": 851481.5727823306,
  "ymax": 1202609.5370735473,
  "spatialReference": {
   "wkid": 102768,
   "latestWkid": 6257
  }
 },
 "sortableFields": "",
 "bandCount": 4,
 "pixelType": "U8",
 "minValues": [
  1,
  1,
  1,
  1
 ],
 "maxValues": [
  255,
  255,
  255,
  223
 ],
 "meanValues": [
  91.259040914318,
  94.330705089407,
  81.323051517513,
  67.155452697961
 ],
 "stdvValues": [
  41.77697620485,
  37.880229554018,
  37.271739223732,
  37.899823167496
 ],
 "hasMultidimensions": false,
 "pixelSizeX": 0.1499999999999997,
 "pixelSizeY": 0.1499999999999988,
 "meanPixelSize": 0.14999999999999925,
 "datasetFormat": "IMAGINE Image",
 "uncompressedSize": 24267363456,
 "blockWidth": 512,
 "blockHeight": 512,
 "compressionType": "None",
 "bandNames": [
  "Layer_1",
  "Layer_2",
  "Layer_3",
  "Layer_4"
 ],
 "allowCopy": true,
 "allowAnalysis": true,
 "itemAccess": false,
 "inspectionCapabilities": "",
 "noDataValue": 0,
 "noDataValues": [
  0,
  0,
  0,
  0
 ],
 "minPixelSize": 0,
 "maxPixelSize": 0,
 "copyrightText": "",
 "serviceDataType": "esriImageServiceDataTypeGeneric",
 "serviceSourceType": "esriImageServiceSourceTypeDataset",
 "objectIdField": "",
 "fields": [],
 "capabilities": "Mensuration,Image,Metadata",
 "defaultMosaicMethod": "Center",
 "allowedMosaicMethods": "",
 "sortField": "",
 "sortValue": null,
 "sortAscending": true,
 "mosaicOperator": "First",
 "defaultCompressionQuality": 75,
 "defaultResamplingMethod": "Bilinear",
 "maxImageHeight": 4100,
 "maxImageWidth": 15000,
 "allowRasterFunction": true,
 "rasterFunctionInfos": [
  {
   "name": "CARTOANTIOQUIA_AMVA_URBANO_Z2",
   "description": "A raster function template.",
   "help": ""
  },
  {
   "name": "Ortofoto_Medellin_RGBI_NW",
   "description": "A raster function template.",
   "help": ""
  },
  {
   "name": "Antioquia_Origen_Santuario_5000",
   "description": "A raster function template.",
   "help": ""
  },
  {
   "name": "CARTOANTIOQUIA_AMVA_RURAL_5000",
   "description": "A raster function template.",
   "help": ""
  },
  {
   "name": "None",
   "description": "",
   "help": ""
  }
 ],
 "rasterTypeInfos": [
  {
   "name": "Raster Dataset",
   "description": "Supports all ArcGIS Raster Datasets",
   "help": ""
  }
 ],
 "mensurationCapabilities": "Basic",
 "hasHistograms": true,
 "hasColormap": false,
 "hasRasterAttributeTable": false,
 "minScale": 0,
 "maxScale": 0,
 "exportTilesAllowed": false,
 "supportsStatistics": false,
 "supportsAdvancedQueries": false,
 "editFieldsInfo": null,
 "ownershipBasedAccessControlForRasters": null,
 "allowComputeTiePoints": false,
 "useStandardizedQueries": true,
 "advancedQueryCapabilities": {
  "useStandardizedQueries": true,
  "supportsStatistics": false,
  "supportsOrderBy": false,
  "supportsDistinct": false,
  "supportsPagination": false
 },
 "spatialReference": {
  "wkid": 102768,
  "latestWkid": 6257
 }
}
