View In:
ArcGIS JavaScript
ArcGIS Online Map Viewer
ArcGIS Earth
Service Description: vivienda_ciudad_terri/la_loma_las_palmas_tif
Name: vivienda_ciudad_terri/la_loma_las_palmas_tif
Description:
Single Fused Map Cache: false
Extent:
XMin: 4706227.242960482
YMin: 2250294.701746603
XMax: 4710315.244271874
YMax: 2255434.6364498395
Spatial Reference: 9377
(9377)
Initial Extent:
XMin: 4706227.242960482
YMin: 2250294.701746603
XMax: 4710315.244271874
YMax: 2255434.6364498395
Spatial Reference: 9377
(9377)
Full Extent:
XMin: 4706227.242960482
YMin: 2250294.701746603
XMax: 4710315.244271874
YMax: 2255434.6364498395
Spatial Reference: 9377
(9377)
Pixel Size X: 0.4276151999364564
Pixel Size Y: 0.42761519993647634
Band Count: 1
Pixel Type: U16
RasterFunction Infos: {"rasterFunctionInfos": [{
"name": "None",
"description": "",
"help": ""
}]}
Mensuration Capabilities: Basic
Inspection Capabilities:
Has Histograms: true
Has Colormap: false
Has Multi Dimensions : false
Rendering Rule:
Min Scale: 0
Max Scale: 0
Copyright Text:
Service Data Type: esriImageServiceDataTypeGeneric
Min Values: 52
Max Values: 226
Mean Values: 184.3770928051
Standard Deviation Values: 15.802911586122
Object ID Field:
Fields:
None
Default Mosaic Method: Center
Allowed Mosaic Methods:
SortField:
SortValue: null
Mosaic Operator: First
Default Compression Quality: 75
Default Resampling Method: Bilinear
Max Record Count: null
Max Image Height: 4100
Max Image Width: 15000
Max Download Image Count: null
Max Mosaic Image Count: null
Allow Raster Function: true
Allow Copy: true
Allow Analysis: true
Allow Compute TiePoints: false
Supports Statistics: false
Supports Advanced Queries: false
Use StandardizedQueries: true
Raster Type Infos:
Name: Raster Dataset
Description: Supports all ArcGIS Raster Datasets
Help:
Has Raster Attribute Table: false
Edit Fields Info: null
Ownership Based AccessControl For Rasters: null
Child Resources:
Info
Histograms
Statistics
Key Properties
Legend
Raster Function Infos
Supported Operations:
Export Image
Identify
Measure
Compute Histograms
Compute Statistics Histograms
Get Samples
Compute Class Statistics
Query Boundary
Compute Pixel Location
Compute Angles
Validate
Project