View In:
ArcGIS JavaScript
ArcGIS Online Map Viewer
ArcGIS Earth
Service Description: ServiciosImagen/QuickBird_2006_4
Name: ServiciosImagen/QuickBird_2006_4
Description:
Single Fused Map Cache: false
Extent:
XMin: 818912.5552385575
YMin: 1172241.999489684
XMax: 833464.9552385575
YMax: 1177958.1994896838
Spatial Reference: PROJCS["PCS_MAG_Ant_Medellin",GEOGCS["GCS_MAG_Ant_Medellin",DATUM["D_DAT_MAG_Ant_Medellin",SPHEROID["GRS1980_MAG_Ant_Medellin",6379647.0,298.257222101]],PRIMEM["Greenwich",0.0],UNIT["Degree",0.0174532925199433]],PROJECTION["Transverse_Mercator"],PARAMETER["False_Easting",835378.647],PARAMETER["False_Northing",1180816.875],PARAMETER["Central_Meridian",-75.56488694],PARAMETER["Scale_Factor",1.0],PARAMETER["Latitude_Of_Origin",6.229208889],UNIT["Meter",1.0]]
Initial Extent:
XMin: 818912.5552385575
YMin: 1172241.999489684
XMax: 833464.9552385575
YMax: 1177958.1994896838
Spatial Reference: PROJCS["PCS_MAG_Ant_Medellin",GEOGCS["GCS_MAG_Ant_Medellin",DATUM["D_DAT_MAG_Ant_Medellin",SPHEROID["GRS1980_MAG_Ant_Medellin",6379647.0,298.257222101]],PRIMEM["Greenwich",0.0],UNIT["Degree",0.0174532925199433]],PROJECTION["Transverse_Mercator"],PARAMETER["False_Easting",835378.647],PARAMETER["False_Northing",1180816.875],PARAMETER["Central_Meridian",-75.56488694],PARAMETER["Scale_Factor",1.0],PARAMETER["Latitude_Of_Origin",6.229208889],UNIT["Meter",1.0]]
Full Extent:
XMin: 818912.5552385575
YMin: 1172241.999489684
XMax: 833464.9552385575
YMax: 1177958.1994896838
Spatial Reference: PROJCS["PCS_MAG_Ant_Medellin",GEOGCS["GCS_MAG_Ant_Medellin",DATUM["D_DAT_MAG_Ant_Medellin",SPHEROID["GRS1980_MAG_Ant_Medellin",6379647.0,298.257222101]],PRIMEM["Greenwich",0.0],UNIT["Degree",0.0174532925199433]],PROJECTION["Transverse_Mercator"],PARAMETER["False_Easting",835378.647],PARAMETER["False_Northing",1180816.875],PARAMETER["Central_Meridian",-75.56488694],PARAMETER["Scale_Factor",1.0],PARAMETER["Latitude_Of_Origin",6.229208889],UNIT["Meter",1.0]]
Pixel Size X: 0.600000000000001
Pixel Size Y: 0.5999999999999951
Band Count: 4
Pixel Type: U16
RasterFunction Infos: {"rasterFunctionInfos": [
{
"name": "QuickBird_SMA_2006_40",
"description": "A raster function template.",
"help": ""
},
{
"name": "QuickBird_SMA_2006_10",
"description": "A raster function template.",
"help": ""
},
{
"name": "QuickBird_SMA_2006_20",
"description": "A raster function template.",
"help": ""
},
{
"name": "QuickBird_SMA_2006_30",
"description": "A raster function template.",
"help": ""
},
{
"name": "None",
"description": "",
"help": ""
}
]}
Mensuration Capabilities: Basic
Inspection Capabilities:
Has Histograms: true
Has Colormap: false
Has Multi Dimensions : false
Rendering Rule:
Min Scale: 0
Max Scale: 0
Copyright Text:
Service Data Type: esriImageServiceDataTypeGeneric
Min Values: 0, 0, 0, 0
Max Values: 2047, 2047, 2005, 2047
Mean Values: 198.54668714244, 294.71102716502, 189.79706621507, 472.95548142832
Standard Deviation Values: 146.10721930169, 224.09678318325, 171.63984717237, 308.44869055481
Object ID Field:
Fields:
None
Default Mosaic Method: Center
Allowed Mosaic Methods:
SortField:
SortValue: null
Mosaic Operator: First
Default Compression Quality: 75
Default Resampling Method: Bilinear
Max Record Count: null
Max Image Height: 4100
Max Image Width: 15000
Max Download Image Count: null
Max Mosaic Image Count: null
Allow Raster Function: true
Allow Copy: true
Allow Analysis: true
Allow Compute TiePoints: false
Supports Statistics: false
Supports Advanced Queries: false
Use StandardizedQueries: true
Raster Type Infos:
Name: Raster Dataset
Description: Supports all ArcGIS Raster Datasets
Help:
Has Raster Attribute Table: false
Edit Fields Info: null
Ownership Based AccessControl For Rasters: null
Child Resources:
Info
Histograms
Statistics
Key Properties
Legend
Raster Function Infos
Supported Operations:
Export Image
Identify
Measure
Compute Histograms
Compute Statistics Histograms
Get Samples
Compute Class Statistics
Query Boundary
Compute Pixel Location
Compute Angles
Validate
Project