View In:
ArcGIS JavaScript
ArcGIS Online Map Viewer
ArcGIS Earth
Service Description: ServiciosImagen/Modelo_digital_de_pendiente_gr_AMVA
Name: ServiciosImagen/Modelo_digital_de_pendiente_gr_AMVA
Description:
Single Fused Map Cache: false
Extent:
XMin: 818266.1374588615
YMin: 1153014.9150048203
XMax: 873443.7883805499
YMax: 1212105.2357687976
Spatial Reference: PROJCS["PCS_MAG_Ant_Medellin",GEOGCS["GCS_MAG_Ant_Medellin",DATUM["D_DAT_MAG_Ant_Medellin",SPHEROID["GRS1980_MAG_Ant_Medellin",6379647.0,298.257222101]],PRIMEM["Greenwich",0.0],UNIT["Degree",0.0174532925199433]],PROJECTION["Transverse_Mercator"],PARAMETER["False_Easting",835378.647],PARAMETER["False_Northing",1180816.875],PARAMETER["Central_Meridian",-75.56488694],PARAMETER["Scale_Factor",1.0],PARAMETER["Latitude_Of_Origin",6.229208889],UNIT["Meter",1.0]]
Initial Extent:
XMin: 818266.1374588615
YMin: 1153014.9150048203
XMax: 873443.7883805499
YMax: 1212105.2357687976
Spatial Reference: PROJCS["PCS_MAG_Ant_Medellin",GEOGCS["GCS_MAG_Ant_Medellin",DATUM["D_DAT_MAG_Ant_Medellin",SPHEROID["GRS1980_MAG_Ant_Medellin",6379647.0,298.257222101]],PRIMEM["Greenwich",0.0],UNIT["Degree",0.0174532925199433]],PROJECTION["Transverse_Mercator"],PARAMETER["False_Easting",835378.647],PARAMETER["False_Northing",1180816.875],PARAMETER["Central_Meridian",-75.56488694],PARAMETER["Scale_Factor",1.0],PARAMETER["Latitude_Of_Origin",6.229208889],UNIT["Meter",1.0]]
Full Extent:
XMin: 818266.1374588615
YMin: 1153014.9150048203
XMax: 873443.7883805499
YMax: 1212105.2357687976
Spatial Reference: PROJCS["PCS_MAG_Ant_Medellin",GEOGCS["GCS_MAG_Ant_Medellin",DATUM["D_DAT_MAG_Ant_Medellin",SPHEROID["GRS1980_MAG_Ant_Medellin",6379647.0,298.257222101]],PRIMEM["Greenwich",0.0],UNIT["Degree",0.0174532925199433]],PROJECTION["Transverse_Mercator"],PARAMETER["False_Easting",835378.647],PARAMETER["False_Northing",1180816.875],PARAMETER["Central_Meridian",-75.56488694],PARAMETER["Scale_Factor",1.0],PARAMETER["Latitude_Of_Origin",6.229208889],UNIT["Meter",1.0]]
Pixel Size X: 10.0068282411477
Pixel Size Y: 10.006828241147712
Band Count: 1
Pixel Type: F32
RasterFunction Infos: {"rasterFunctionInfos": [{
"name": "None",
"description": "",
"help": ""
}]}
Mensuration Capabilities: Basic
Inspection Capabilities:
Has Histograms: true
Has Colormap: false
Has Multi Dimensions : false
Rendering Rule:
Min Scale: 0
Max Scale: 0
Resampling: false
Copyright Text:
Service Data Type: esriImageServiceDataTypeGeneric
Min Values: 0
Max Values: 78.908576965332
Mean Values: 20.797490306075
Standard Deviation Values: 12.376155745319
Object ID Field:
Fields:
None
Default Mosaic Method: Center
Allowed Mosaic Methods:
SortField:
SortValue: null
Mosaic Operator: First
Default Compression Quality: 75
Default Resampling Method: Bilinear
Max Record Count: null
Max Image Height: 4100
Max Image Width: 15000
Max Download Image Count: null
Max Mosaic Image Count: null
Allow Raster Function: true
Allow Copy: true
Allow Analysis: true
Allow Compute TiePoints: false
Supports Statistics: false
Supports Advanced Queries: false
Use StandardizedQueries: true
Raster Type Infos:
Name: Raster Dataset
Description: Supports all ArcGIS Raster Datasets
Help:
Has Raster Attribute Table: false
Edit Fields Info: null
Ownership Based AccessControl For Rasters: null
Child Resources:
Info
Histograms
Statistics
Key Properties
Legend
Raster Function Infos
Supported Operations:
Export Image
Identify
Measure
Compute Histograms
Compute Statistics Histograms
Get Samples
Compute Class Statistics
Query Boundary
Compute Pixel Location
Compute Angles
Validate
Project