View In:
ArcGIS JavaScript
ArcGIS Online Map Viewer
ArcGIS Earth
Service Description: Aerografía de Medellín tomada en el año 1959. La información corresponde a la zona del centro. Escala aproximada 1:10.000. Resolución de imagen aproximada de 75 cm
Name: ServiciosImagen/Imagen1959
Description: Aerografía de Medellín tomada en el año 1959. La información corresponde a la zona del centro. Escala aproximada 1:10.000. Resolución de imagen aproximada de 75 cm
Single Fused Map Cache: false
Extent:
XMin: 833054.0643390624
YMin: 1176540.387807805
XMax: 836719.9946739181
YMax: 1186728.360924655
Spatial Reference: 102768
(6257)
Initial Extent:
XMin: 833054.0643390624
YMin: 1176540.387807805
XMax: 836719.9946739181
YMax: 1186728.360924655
Spatial Reference: 102768
(6257)
Full Extent:
XMin: 833054.0643390624
YMin: 1176540.387807805
XMax: 836719.9946739181
YMax: 1186728.360924655
Spatial Reference: 102768
(6257)
Pixel Size X: 0.3740745239648659
Pixel Size Y: 0.374090222400309
Band Count: 3
Pixel Type: U8
RasterFunction Infos: {"rasterFunctionInfos": [{
"name": "None",
"description": "",
"help": ""
}]}
Mensuration Capabilities: Basic
Inspection Capabilities:
Has Histograms: true
Has Colormap: false
Has Multi Dimensions : false
Rendering Rule:
Min Scale: 0
Max Scale: 0
Resampling: false
Copyright Text: Departamento Administrativo de Planeación, Subdirección de Prospectiva e Información y Evaluación Estratégica, Centro de Documentación.
Service Data Type: esriImageServiceDataTypeRGB
Min Values: 1, 1, 1
Max Values: 255, 255, 255
Mean Values: 145.67890360161766, 145.67890360161766, 145.67890360161766
Standard Deviation Values: 37.76446088416927, 37.76446088416927, 37.76446088416927
Object ID Field:
Fields:
None
Default Mosaic Method: Center
Allowed Mosaic Methods:
SortField:
SortValue: null
Mosaic Operator: First
Default Compression Quality: 75
Default Resampling Method: Bilinear
Max Record Count: null
Max Image Height: 4100
Max Image Width: 15000
Max Download Image Count: null
Max Mosaic Image Count: null
Allow Raster Function: true
Allow Copy: true
Allow Analysis: true
Allow Compute TiePoints: false
Supports Statistics: false
Supports Advanced Queries: false
Use StandardizedQueries: true
Raster Type Infos:
Name: Raster Dataset
Description: Supports all ArcGIS Raster Datasets
Help:
Has Raster Attribute Table: false
Edit Fields Info: null
Ownership Based AccessControl For Rasters: null
Child Resources:
Info
Histograms
Statistics
Key Properties
Legend
Raster Function Infos
Supported Operations:
Export Image
Identify
Measure
Compute Histograms
Compute Statistics Histograms
Get Samples
Compute Class Statistics
Query Boundary
Compute Pixel Location
Compute Angles
Validate
Project