View In:
ArcGIS JavaScript
ArcGIS Online Map Viewer
ArcGIS Earth
Service Description: ServiciosImagen/CARTOANTIOQUIA_2010_URBANO_Z3
Name: ServiciosImagen/CARTOANTIOQUIA_2010_URBANO_Z3
Description:
Single Fused Map Cache: false
Extent:
XMin: 824866.8044324695
YMin: 1183116.4793910852
XMax: 840367.6544324695
YMax: 1198287.4793910852
Spatial Reference: 102768
(6257)
Initial Extent:
XMin: 824866.8044324695
YMin: 1183116.4793910852
XMax: 840367.6544324695
YMax: 1198287.4793910852
Spatial Reference: 102768
(6257)
Full Extent:
XMin: 824866.8044324695
YMin: 1183116.4793910852
XMax: 840367.6544324695
YMax: 1198287.4793910852
Spatial Reference: 102768
(6257)
Pixel Size X: 0.14999999999999977
Pixel Size Y: 0.15
Band Count: 4
Pixel Type: U8
RasterFunction Infos: {"rasterFunctionInfos": [
{
"name": "CARTOANTIOQUIA_AMVA_URBANO_Z2",
"description": "A raster function template.",
"help": ""
},
{
"name": "Ortofoto_Medellin_RGBI_NW",
"description": "A raster function template.",
"help": ""
},
{
"name": "Antioquia_Origen_Santuario_5000",
"description": "A raster function template.",
"help": ""
},
{
"name": "CARTOANTIOQUIA_AMVA_RURAL_5000",
"description": "A raster function template.",
"help": ""
},
{
"name": "None",
"description": "",
"help": ""
}
]}
Mensuration Capabilities: Basic
Inspection Capabilities:
Has Histograms: true
Has Colormap: false
Has Multi Dimensions : false
Rendering Rule:
Min Scale: 0
Max Scale: 0
Resampling: false
Copyright Text:
Service Data Type: esriImageServiceDataTypeGeneric
Min Values: 1, 1, 1, 1
Max Values: 255, 255, 255, 255
Mean Values: 79.060919959395, 82.931205853098, 68.313016959475, 69.266370606905
Standard Deviation Values: 44.777953607286, 41.122073649546, 40.78118643184, 40.924411441051
Object ID Field:
Fields:
None
Default Mosaic Method: Center
Allowed Mosaic Methods:
SortField:
SortValue: null
Mosaic Operator: First
Default Compression Quality: 75
Default Resampling Method: Bilinear
Max Record Count: null
Max Image Height: 4100
Max Image Width: 15000
Max Download Image Count: null
Max Mosaic Image Count: null
Allow Raster Function: true
Allow Copy: true
Allow Analysis: true
Allow Compute TiePoints: false
Supports Statistics: false
Supports Advanced Queries: false
Use StandardizedQueries: true
Raster Type Infos:
Name: Raster Dataset
Description: Supports all ArcGIS Raster Datasets
Help:
Has Raster Attribute Table: false
Edit Fields Info: null
Ownership Based AccessControl For Rasters: null
Child Resources:
Info
Histograms
Statistics
Key Properties
Legend
Raster Function Infos
Supported Operations:
Export Image
Identify
Measure
Compute Histograms
Compute Statistics Histograms
Get Samples
Compute Class Statistics
Query Boundary
Compute Pixel Location
Compute Angles
Validate
Project