View In:
ArcGIS JavaScript
ArcGIS Online Map Viewer
ArcGIS Earth
Service Description: ServiciosImagen/CARTOANTIOQUIA_2010_RURAL
Name: ServiciosImagen/CARTOANTIOQUIA_2010_RURAL
Description:
Single Fused Map Cache: false
Extent:
XMin: 818028.9302978516
YMin: 1153374.612878418
XMax: 874210.2302978516
YMax: 1212504.012878418
Spatial Reference: PROJCS["MAGNA_Medellin_Antioquia_2010_Rural",GEOGCS["GCS_MAGNA",DATUM["D_MAGNA",SPHEROID["GRS_1980",6378137.0,298.257222101]],PRIMEM["Greenwich",0.0],UNIT["Degree",0.0174532925199433]],PROJECTION["IGAC_Plano_Cartesiano"],PARAMETER["False_Easting",835378.647],PARAMETER["False_Northing",1180816.875],PARAMETER["Longitude_Of_Center",-75.5648869444444],PARAMETER["Latitude_Of_Center",6.22920888888889],PARAMETER["Height",1600.0],UNIT["Meter",1.0]]
Initial Extent:
XMin: 818028.9302978516
YMin: 1153374.612878418
XMax: 874210.2302978516
YMax: 1212504.012878418
Spatial Reference: PROJCS["MAGNA_Medellin_Antioquia_2010_Rural",GEOGCS["GCS_MAGNA",DATUM["D_MAGNA",SPHEROID["GRS_1980",6378137.0,298.257222101]],PRIMEM["Greenwich",0.0],UNIT["Degree",0.0174532925199433]],PROJECTION["IGAC_Plano_Cartesiano"],PARAMETER["False_Easting",835378.647],PARAMETER["False_Northing",1180816.875],PARAMETER["Longitude_Of_Center",-75.5648869444444],PARAMETER["Latitude_Of_Center",6.22920888888889],PARAMETER["Height",1600.0],UNIT["Meter",1.0]]
Full Extent:
XMin: 818028.9302978516
YMin: 1153374.612878418
XMax: 874210.2302978516
YMax: 1212504.012878418
Spatial Reference: PROJCS["MAGNA_Medellin_Antioquia_2010_Rural",GEOGCS["GCS_MAGNA",DATUM["D_MAGNA",SPHEROID["GRS_1980",6378137.0,298.257222101]],PRIMEM["Greenwich",0.0],UNIT["Degree",0.0174532925199433]],PROJECTION["IGAC_Plano_Cartesiano"],PARAMETER["False_Easting",835378.647],PARAMETER["False_Northing",1180816.875],PARAMETER["Longitude_Of_Center",-75.5648869444444],PARAMETER["Latitude_Of_Center",6.22920888888889],PARAMETER["Height",1600.0],UNIT["Meter",1.0]]
Pixel Size X: 0.30000000000000027
Pixel Size Y: 0.29999999999999954
Band Count: 4
Pixel Type: U8
RasterFunction Infos: {"rasterFunctionInfos": [
{
"name": "CARTOANTIOQUIA_AMVA_RURAL_5000",
"description": "A raster function template.",
"help": ""
},
{
"name": "Ortofoto_Medellin_RGBI_NW",
"description": "A raster function template.",
"help": ""
},
{
"name": "Antioquia_Origen_Santuario_5000",
"description": "A raster function template.",
"help": ""
},
{
"name": "None",
"description": "",
"help": ""
}
]}
Mensuration Capabilities: Basic
Inspection Capabilities:
Has Histograms: true
Has Colormap: false
Has Multi Dimensions : false
Rendering Rule:
Min Scale: 0
Max Scale: 0
Copyright Text:
Service Data Type: esriImageServiceDataTypeGeneric
Min Values: 1, 1, 1, 1
Max Values: 255, 255, 255, 247
Mean Values: 86.440678096937, 91.375184026039, 79.651171108244, 74.119127226014
Standard Deviation Values: 37.452127313478, 33.473238967068, 30.844854570857, 37.880408925339
Object ID Field:
Fields:
None
Default Mosaic Method: Center
Allowed Mosaic Methods:
SortField:
SortValue: null
Mosaic Operator: First
Default Compression Quality: 75
Default Resampling Method: Bilinear
Max Record Count: null
Max Image Height: 4100
Max Image Width: 15000
Max Download Image Count: null
Max Mosaic Image Count: null
Allow Raster Function: true
Allow Copy: true
Allow Analysis: true
Allow Compute TiePoints: false
Supports Statistics: false
Supports Advanced Queries: false
Use StandardizedQueries: true
Raster Type Infos:
Name: Raster Dataset
Description: Supports all ArcGIS Raster Datasets
Help:
Has Raster Attribute Table: false
Edit Fields Info: null
Ownership Based AccessControl For Rasters: null
Child Resources:
Info
Histograms
Statistics
Key Properties
Legend
Raster Function Infos
Supported Operations:
Export Image
Identify
Measure
Compute Histograms
Compute Statistics Histograms
Get Samples
Compute Class Statistics
Query Boundary
Compute Pixel Location
Compute Angles
Validate
Project