{
 "currentVersion": 11.3,
 "serviceDescription": "vivienda_ciudad_terri/san_cristobal_tif",
 "name": "vivienda_ciudad_terri/san_cristobal_tif",
 "description": "",
 "extent": {
  "xmin": 4706783.308087367,
  "ymin": 2251001.81692944,
  "xmax": 4710263.1839106055,
  "ymax": 2253671.3047973164,
  "spatialReference": {
   "wkid": 9377,
   "latestWkid": 9377
  }
 },
 "initialExtent": {
  "xmin": 4706783.308087367,
  "ymin": 2251001.81692944,
  "xmax": 4710263.1839106055,
  "ymax": 2253671.3047973164,
  "spatialReference": {
   "wkid": 9377,
   "latestWkid": 9377
  }
 },
 "fullExtent": {
  "xmin": 4706783.308087367,
  "ymin": 2251001.81692944,
  "xmax": 4710263.1839106055,
  "ymax": 2253671.3047973164,
  "spatialReference": {
   "wkid": 9377,
   "latestWkid": 9377
  }
 },
 "sortableFields": "",
 "bandCount": 1,
 "pixelType": "U16",
 "minValues": [
  69
 ],
 "maxValues": [
  235
 ],
 "meanValues": [
  193.80352107846
 ],
 "stdvValues": [
  15.06448306615
 ],
 "hasMultidimensions": false,
 "pixelSizeX": 0.4317463800544497,
 "pixelSizeY": 0.43174638005441074,
 "meanPixelSize": 0.4317463800544302,
 "datasetFormat": "TIFF",
 "uncompressedSize": 99669960,
 "blockWidth": 128,
 "blockHeight": 128,
 "compressionType": "LZW",
 "bandNames": [
  "Band_1"
 ],
 "allowCopy": true,
 "allowAnalysis": true,
 "itemAccess": false,
 "inspectionCapabilities": "",
 "noDataValue": 65535,
 "noDataValues": [
  65535
 ],
 "minPixelSize": 0,
 "maxPixelSize": 0,
 "copyrightText": "",
 "serviceDataType": "esriImageServiceDataTypeGeneric",
 "serviceSourceType": "esriImageServiceSourceTypeDataset",
 "objectIdField": "",
 "fields": [],
 "capabilities": "Image,Metadata,Mensuration",
 "defaultMosaicMethod": "Center",
 "allowedMosaicMethods": "",
 "sortField": "",
 "sortValue": null,
 "sortAscending": true,
 "mosaicOperator": "First",
 "defaultCompressionQuality": 75,
 "defaultResamplingMethod": "Bilinear",
 "maxImageHeight": 4100,
 "maxImageWidth": 15000,
 "allowRasterFunction": true,
 "rasterFunctionInfos": [
  {
   "name": "None",
   "description": "",
   "help": ""
  }
 ],
 "rasterTypeInfos": [
  {
   "name": "Raster Dataset",
   "description": "Supports all ArcGIS Raster Datasets",
   "help": ""
  }
 ],
 "mensurationCapabilities": "Basic",
 "hasHistograms": true,
 "hasColormap": false,
 "hasRasterAttributeTable": false,
 "minScale": 0,
 "maxScale": 0,
 "exportTilesAllowed": false,
 "supportsStatistics": false,
 "supportsAdvancedQueries": false,
 "editFieldsInfo": null,
 "ownershipBasedAccessControlForRasters": null,
 "allowComputeTiePoints": false,
 "useStandardizedQueries": true,
 "advancedQueryCapabilities": {
  "useStandardizedQueries": true,
  "supportsStatistics": false,
  "supportsOrderBy": false,
  "supportsDistinct": false,
  "supportsPagination": false
 },
 "spatialReference": {
  "wkid": 9377,
  "latestWkid": 9377
 }
}
