{
 "currentVersion": 11.3,
 "serviceDescription": "ServiciosImagen/ortofoto_bello_2021_aoi_jp2",
 "name": "ServiciosImagen/ortofoto_bello_2021_aoi_jp2",
 "description": "",
 "extent": {
  "xmin": 823916.96914,
  "ymin": 1187281.0436099998,
  "xmax": 840914.72914,
  "ymax": 1203222.38361,
  "spatialReference": {
   "wkid": 3116,
   "latestWkid": 3116
  }
 },
 "initialExtent": {
  "xmin": 823916.96914,
  "ymin": 1187281.0436099998,
  "xmax": 840914.72914,
  "ymax": 1203222.38361,
  "spatialReference": {
   "wkid": 3116,
   "latestWkid": 3116
  }
 },
 "fullExtent": {
  "xmin": 823916.96914,
  "ymin": 1187281.0436099998,
  "xmax": 840914.72914,
  "ymax": 1203222.38361,
  "spatialReference": {
   "wkid": 3116,
   "latestWkid": 3116
  }
 },
 "sortableFields": "",
 "bandCount": 5,
 "pixelType": "U8",
 "minValues": [
  0,
  0,
  0,
  0,
  0
 ],
 "maxValues": [
  255,
  255,
  255,
  255,
  255
 ],
 "meanValues": [
  56.241018606282,
  61.140779166299,
  48.037231974651,
  131.9250737243,
  132.29233845087
 ],
 "stdvValues": [
  61.517222824345,
  64.341029846674,
  52.569014947165,
  127.0603473334,
  127.40990341859
 ],
 "hasMultidimensions": false,
 "pixelSizeX": 0.09000000000000005,
 "pixelSizeY": 0.09000000000000047,
 "meanPixelSize": 0.09000000000000026,
 "datasetFormat": "JP2",
 "uncompressedSize": 167263624320,
 "blockWidth": 2048,
 "blockHeight": 2048,
 "compressionType": "JPEG2000",
 "bandNames": [
  "Band_1",
  "Band_2",
  "Band_3",
  "Band_4",
  "Band_5"
 ],
 "allowCopy": true,
 "allowAnalysis": true,
 "itemAccess": false,
 "inspectionCapabilities": "",
 "minPixelSize": 0,
 "maxPixelSize": 0,
 "copyrightText": "",
 "serviceDataType": "esriImageServiceDataTypeGeneric",
 "serviceSourceType": "esriImageServiceSourceTypeDataset",
 "objectIdField": "",
 "fields": [],
 "capabilities": "Mensuration,Image,Metadata",
 "defaultMosaicMethod": "Center",
 "allowedMosaicMethods": "",
 "sortField": "",
 "sortValue": null,
 "sortAscending": true,
 "mosaicOperator": "First",
 "defaultCompressionQuality": 75,
 "defaultResamplingMethod": "Bilinear",
 "maxImageHeight": 4100,
 "maxImageWidth": 15000,
 "allowRasterFunction": true,
 "rasterFunctionInfos": [
  {
   "name": "RGB_AOI",
   "description": "rgb,aoi",
   "help": ""
  },
  {
   "name": "None",
   "description": "",
   "help": ""
  }
 ],
 "rasterTypeInfos": [
  {
   "name": "Raster Dataset",
   "description": "Supports all ArcGIS Raster Datasets",
   "help": ""
  }
 ],
 "mensurationCapabilities": "Basic",
 "hasHistograms": true,
 "hasColormap": false,
 "hasRasterAttributeTable": false,
 "minScale": 0,
 "maxScale": 0,
 "exportTilesAllowed": false,
 "supportsStatistics": false,
 "supportsAdvancedQueries": false,
 "editFieldsInfo": null,
 "ownershipBasedAccessControlForRasters": null,
 "allowComputeTiePoints": false,
 "useStandardizedQueries": true,
 "advancedQueryCapabilities": {
  "useStandardizedQueries": true,
  "supportsStatistics": false,
  "supportsOrderBy": false,
  "supportsDistinct": false,
  "supportsPagination": false
 },
 "spatialReference": {
  "wkid": 3116,
  "latestWkid": 3116
 },
 "resampling": false
}
