{
 "currentVersion": 11.3,
 "serviceDescription": "ServiciosImagen/mosaico_rio_medellin_m_bog",
 "name": "ServiciosImagen/mosaico_rio_medellin_m_bog",
 "description": "",
 "extent": {
  "xmin": 831980.6775172111,
  "ymin": 1175754.2289438262,
  "xmax": 836616.4775172111,
  "ymax": 1190051.7289438262,
  "spatialReference": {
   "wkid": 3116,
   "latestWkid": 3116
  }
 },
 "initialExtent": {
  "xmin": 831980.6775172111,
  "ymin": 1175754.2289438262,
  "xmax": 836616.4775172111,
  "ymax": 1190051.7289438262,
  "spatialReference": {
   "wkid": 3116,
   "latestWkid": 3116
  }
 },
 "fullExtent": {
  "xmin": 831980.6775172111,
  "ymin": 1175754.2289438262,
  "xmax": 836616.4775172111,
  "ymax": 1190051.7289438262,
  "spatialReference": {
   "wkid": 3116,
   "latestWkid": 3116
  }
 },
 "sortableFields": "",
 "bandCount": 4,
 "pixelType": "U16",
 "minValues": [
  0,
  0,
  0,
  0
 ],
 "maxValues": [
  255,
  255,
  255,
  255
 ],
 "meanValues": [
  72.956969218862,
  83.289769492287,
  75.83234989854,
  254.92595834756
 ],
 "stdvValues": [
  44.453471092316,
  42.128710333308,
  43.204122181095,
  4.3445528207612
 ],
 "hasMultidimensions": false,
 "pixelSizeX": 0.100000000000001,
 "pixelSizeY": 0.1,
 "meanPixelSize": 0.1000000000000005,
 "datasetFormat": "TIFF",
 "uncompressedSize": 53024280400,
 "blockWidth": 128,
 "blockHeight": 128,
 "compressionType": "LZW",
 "bandNames": [
  "Band_1",
  "Band_2",
  "Band_3",
  "Band_4"
 ],
 "allowCopy": true,
 "allowAnalysis": true,
 "itemAccess": false,
 "inspectionCapabilities": "",
 "noDataValue": 256,
 "noDataValues": [
  256,
  256,
  256,
  256
 ],
 "minPixelSize": 0,
 "maxPixelSize": 0,
 "copyrightText": "",
 "serviceDataType": "esriImageServiceDataTypeGeneric",
 "serviceSourceType": "esriImageServiceSourceTypeDataset",
 "objectIdField": "",
 "fields": [],
 "capabilities": "Image,Metadata,Mensuration",
 "defaultMosaicMethod": "Center",
 "allowedMosaicMethods": "",
 "sortField": "",
 "sortValue": null,
 "sortAscending": true,
 "mosaicOperator": "First",
 "defaultCompressionQuality": 75,
 "defaultResamplingMethod": "Bilinear",
 "maxImageHeight": 4100,
 "maxImageWidth": 15000,
 "allowRasterFunction": true,
 "rasterFunctionInfos": [
  {
   "name": "None",
   "description": "Make a Raster or Raster Dataset into a Function Raster Dataset.",
   "help": ""
  },
  {
   "name": "Mosaico_rio",
   "description": "A raster function template.",
   "help": ""
  }
 ],
 "rasterTypeInfos": [
  {
   "name": "Raster Dataset",
   "description": "Supports all ArcGIS Raster Datasets",
   "help": ""
  }
 ],
 "mensurationCapabilities": "Basic",
 "hasHistograms": true,
 "hasColormap": false,
 "hasRasterAttributeTable": false,
 "minScale": 0,
 "maxScale": 0,
 "exportTilesAllowed": false,
 "supportsStatistics": false,
 "supportsAdvancedQueries": false,
 "editFieldsInfo": null,
 "ownershipBasedAccessControlForRasters": null,
 "allowComputeTiePoints": false,
 "useStandardizedQueries": true,
 "advancedQueryCapabilities": {
  "useStandardizedQueries": true,
  "supportsStatistics": false,
  "supportsOrderBy": false,
  "supportsDistinct": false,
  "supportsPagination": false
 },
 "spatialReference": {
  "wkid": 3116,
  "latestWkid": 3116
 }
}
