{
 "currentVersion": 11.3,
 "serviceDescription": "ServiciosImagen/QuickBird_2008",
 "name": "ServiciosImagen/QuickBird_2008",
 "description": "",
 "extent": {
  "xmin": 824941.8753634419,
  "ymin": 1172498.2959374394,
  "xmax": 843357.6753634419,
  "ymax": 1196600.2959374394,
  "spatialReference": {
   "wkid": 102768,
   "latestWkid": 6257
  }
 },
 "initialExtent": {
  "xmin": 824941.8753634419,
  "ymin": 1172498.2959374394,
  "xmax": 843357.6753634419,
  "ymax": 1196600.2959374394,
  "spatialReference": {
   "wkid": 102768,
   "latestWkid": 6257
  }
 },
 "fullExtent": {
  "xmin": 824941.8753634419,
  "ymin": 1172498.2959374394,
  "xmax": 843357.6753634419,
  "ymax": 1196600.2959374394,
  "spatialReference": {
   "wkid": 102768,
   "latestWkid": 6257
  }
 },
 "sortableFields": "",
 "bandCount": 3,
 "pixelType": "U8",
 "minValues": [
  0,
  0,
  0
 ],
 "maxValues": [
  255,
  255,
  255
 ],
 "meanValues": [
  58.744394433838,
  71.511563406543,
  73.489462029746
 ],
 "stdvValues": [
  51.876915739213,
  56.464958718112,
  57.147073861272
 ],
 "hasMultidimensions": false,
 "pixelSizeX": 0.6000000000000015,
 "pixelSizeY": 0.6,
 "meanPixelSize": 0.6000000000000008,
 "datasetFormat": "TIFF",
 "uncompressedSize": 3698813430,
 "blockWidth": 128,
 "blockHeight": 128,
 "compressionType": "LZW",
 "bandNames": [
  "Band_1",
  "Band_2",
  "Band_3"
 ],
 "allowCopy": true,
 "allowAnalysis": true,
 "itemAccess": false,
 "inspectionCapabilities": "",
 "noDataValue": 256,
 "noDataValues": [
  256,
  256,
  256
 ],
 "minPixelSize": 0,
 "maxPixelSize": 0,
 "copyrightText": "",
 "serviceDataType": "esriImageServiceDataTypeRGB",
 "serviceSourceType": "esriImageServiceSourceTypeDataset",
 "objectIdField": "",
 "fields": [],
 "capabilities": "Mensuration,Image,Metadata",
 "defaultMosaicMethod": "Center",
 "allowedMosaicMethods": "",
 "sortField": "",
 "sortValue": null,
 "sortAscending": true,
 "mosaicOperator": "First",
 "defaultCompressionQuality": 75,
 "defaultResamplingMethod": "Bilinear",
 "maxImageHeight": 4100,
 "maxImageWidth": 15000,
 "allowRasterFunction": true,
 "rasterFunctionInfos": [
  {
   "name": "QB2008_MAGNA_Medellin_2010",
   "description": "A raster function template.",
   "help": ""
  },
  {
   "name": "None",
   "description": "",
   "help": ""
  }
 ],
 "rasterTypeInfos": [
  {
   "name": "Raster Dataset",
   "description": "Supports all ArcGIS Raster Datasets",
   "help": ""
  }
 ],
 "mensurationCapabilities": "Basic",
 "hasHistograms": true,
 "hasColormap": false,
 "hasRasterAttributeTable": false,
 "minScale": 0,
 "maxScale": 0,
 "exportTilesAllowed": false,
 "supportsStatistics": false,
 "supportsAdvancedQueries": false,
 "editFieldsInfo": null,
 "ownershipBasedAccessControlForRasters": null,
 "allowComputeTiePoints": false,
 "useStandardizedQueries": true,
 "advancedQueryCapabilities": {
  "useStandardizedQueries": true,
  "supportsStatistics": false,
  "supportsOrderBy": false,
  "supportsDistinct": false,
  "supportsPagination": false
 },
 "spatialReference": {
  "wkid": 102768,
  "latestWkid": 6257
 },
 "resampling": false
}
