{
 "currentVersion": 11.3,
 "serviceDescription": "ServiciosImagen/QuickBird_2006_6",
 "name": "ServiciosImagen/QuickBird_2006_6",
 "description": "",
 "extent": {
  "xmin": 831514.7881111657,
  "ymin": 1182557.2786078153,
  "xmax": 837650.9881111657,
  "ymax": 1192704.4786078152,
  "spatialReference": {
   "wkt2": "PROJCRS[\"PCS_MAG_Ant_Medellin\",BASEGEOGCRS[\"GCS_MAG_Ant_Medellin\",DATUM[\"D_DAT_MAG_Ant_Medellin\",ELLIPSOID[\"GRS1980_MAG_Ant_Medellin\",6379647.0,298.257222101,LENGTHUNIT[\"Meter\",1.0]]],PRIMEM[\"Greenwich\",0.0,ANGLEUNIT[\"Degree\",0.0174532925199433]],CS[ellipsoidal,2],ANGLEUNIT[\"Degree\",0.0174532925199433]],CONVERSION[\"Transverse_Mercator\",METHOD[\"Transverse_Mercator\"],PARAMETER[\"False_Easting\",835378.647,LENGTHUNIT[\"Meter\",1.0]],PARAMETER[\"False_Northing\",1180816.875,LENGTHUNIT[\"Meter\",1.0]],PARAMETER[\"Central_Meridian\",-75.56488694,ANGLEUNIT[\"Degree\",0.0174532925199433]],PARAMETER[\"Scale_Factor\",1.0,SCALEUNIT[\"Unity\",1.0]],PARAMETER[\"Latitude_Of_Origin\",6.229208889,ANGLEUNIT[\"Degree\",0.0174532925199433]]],CS[Cartesian,2],AXIS[\"Easting (X)\",east,ORDER[1]],AXIS[\"Northing (Y)\",north,ORDER[2]],LENGTHUNIT[\"Meter\",1.0]]",
   "wkt": "PROJCS[\"PCS_MAG_Ant_Medellin\",GEOGCS[\"GCS_MAG_Ant_Medellin\",DATUM[\"D_DAT_MAG_Ant_Medellin\",SPHEROID[\"GRS1980_MAG_Ant_Medellin\",6379647.0,298.257222101]],PRIMEM[\"Greenwich\",0.0],UNIT[\"Degree\",0.0174532925199433]],PROJECTION[\"Transverse_Mercator\"],PARAMETER[\"False_Easting\",835378.647],PARAMETER[\"False_Northing\",1180816.875],PARAMETER[\"Central_Meridian\",-75.56488694],PARAMETER[\"Scale_Factor\",1.0],PARAMETER[\"Latitude_Of_Origin\",6.229208889],UNIT[\"Meter\",1.0]]"
  }
 },
 "initialExtent": {
  "xmin": 831514.7881111657,
  "ymin": 1182557.2786078153,
  "xmax": 837650.9881111657,
  "ymax": 1192704.4786078152,
  "spatialReference": {
   "wkt2": "PROJCRS[\"PCS_MAG_Ant_Medellin\",BASEGEOGCRS[\"GCS_MAG_Ant_Medellin\",DATUM[\"D_DAT_MAG_Ant_Medellin\",ELLIPSOID[\"GRS1980_MAG_Ant_Medellin\",6379647.0,298.257222101,LENGTHUNIT[\"Meter\",1.0]]],PRIMEM[\"Greenwich\",0.0,ANGLEUNIT[\"Degree\",0.0174532925199433]],CS[ellipsoidal,2],ANGLEUNIT[\"Degree\",0.0174532925199433]],CONVERSION[\"Transverse_Mercator\",METHOD[\"Transverse_Mercator\"],PARAMETER[\"False_Easting\",835378.647,LENGTHUNIT[\"Meter\",1.0]],PARAMETER[\"False_Northing\",1180816.875,LENGTHUNIT[\"Meter\",1.0]],PARAMETER[\"Central_Meridian\",-75.56488694,ANGLEUNIT[\"Degree\",0.0174532925199433]],PARAMETER[\"Scale_Factor\",1.0,SCALEUNIT[\"Unity\",1.0]],PARAMETER[\"Latitude_Of_Origin\",6.229208889,ANGLEUNIT[\"Degree\",0.0174532925199433]]],CS[Cartesian,2],AXIS[\"Easting (X)\",east,ORDER[1]],AXIS[\"Northing (Y)\",north,ORDER[2]],LENGTHUNIT[\"Meter\",1.0]]",
   "wkt": "PROJCS[\"PCS_MAG_Ant_Medellin\",GEOGCS[\"GCS_MAG_Ant_Medellin\",DATUM[\"D_DAT_MAG_Ant_Medellin\",SPHEROID[\"GRS1980_MAG_Ant_Medellin\",6379647.0,298.257222101]],PRIMEM[\"Greenwich\",0.0],UNIT[\"Degree\",0.0174532925199433]],PROJECTION[\"Transverse_Mercator\"],PARAMETER[\"False_Easting\",835378.647],PARAMETER[\"False_Northing\",1180816.875],PARAMETER[\"Central_Meridian\",-75.56488694],PARAMETER[\"Scale_Factor\",1.0],PARAMETER[\"Latitude_Of_Origin\",6.229208889],UNIT[\"Meter\",1.0]]"
  }
 },
 "fullExtent": {
  "xmin": 831514.7881111657,
  "ymin": 1182557.2786078153,
  "xmax": 837650.9881111657,
  "ymax": 1192704.4786078152,
  "spatialReference": {
   "wkt2": "PROJCRS[\"PCS_MAG_Ant_Medellin\",BASEGEOGCRS[\"GCS_MAG_Ant_Medellin\",DATUM[\"D_DAT_MAG_Ant_Medellin\",ELLIPSOID[\"GRS1980_MAG_Ant_Medellin\",6379647.0,298.257222101,LENGTHUNIT[\"Meter\",1.0]]],PRIMEM[\"Greenwich\",0.0,ANGLEUNIT[\"Degree\",0.0174532925199433]],CS[ellipsoidal,2],ANGLEUNIT[\"Degree\",0.0174532925199433]],CONVERSION[\"Transverse_Mercator\",METHOD[\"Transverse_Mercator\"],PARAMETER[\"False_Easting\",835378.647,LENGTHUNIT[\"Meter\",1.0]],PARAMETER[\"False_Northing\",1180816.875,LENGTHUNIT[\"Meter\",1.0]],PARAMETER[\"Central_Meridian\",-75.56488694,ANGLEUNIT[\"Degree\",0.0174532925199433]],PARAMETER[\"Scale_Factor\",1.0,SCALEUNIT[\"Unity\",1.0]],PARAMETER[\"Latitude_Of_Origin\",6.229208889,ANGLEUNIT[\"Degree\",0.0174532925199433]]],CS[Cartesian,2],AXIS[\"Easting (X)\",east,ORDER[1]],AXIS[\"Northing (Y)\",north,ORDER[2]],LENGTHUNIT[\"Meter\",1.0]]",
   "wkt": "PROJCS[\"PCS_MAG_Ant_Medellin\",GEOGCS[\"GCS_MAG_Ant_Medellin\",DATUM[\"D_DAT_MAG_Ant_Medellin\",SPHEROID[\"GRS1980_MAG_Ant_Medellin\",6379647.0,298.257222101]],PRIMEM[\"Greenwich\",0.0],UNIT[\"Degree\",0.0174532925199433]],PROJECTION[\"Transverse_Mercator\"],PARAMETER[\"False_Easting\",835378.647],PARAMETER[\"False_Northing\",1180816.875],PARAMETER[\"Central_Meridian\",-75.56488694],PARAMETER[\"Scale_Factor\",1.0],PARAMETER[\"Latitude_Of_Origin\",6.229208889],UNIT[\"Meter\",1.0]]"
  }
 },
 "sortableFields": "",
 "bandCount": 4,
 "pixelType": "U16",
 "minValues": [
  0,
  0,
  0,
  0
 ],
 "maxValues": [
  2047,
  2047,
  2047,
  2047
 ],
 "meanValues": [
  403.26526868584,
  573.97476422508,
  399.16671399001,
  543.66732830315
 ],
 "stdvValues": [
  254.49222132314,
  351.28636979965,
  292.01609885717,
  277.22705138665
 ],
 "hasMultidimensions": false,
 "pixelSizeX": 0.5999999999999954,
 "pixelSizeY": 0.5999999999999972,
 "meanPixelSize": 0.5999999999999963,
 "datasetFormat": "TIFF",
 "uncompressedSize": 1383672192,
 "blockWidth": 128,
 "blockHeight": 128,
 "compressionType": "LZW",
 "bandNames": [
  "Band_1",
  "Band_2",
  "Band_3",
  "Band_4"
 ],
 "allowCopy": true,
 "allowAnalysis": true,
 "itemAccess": false,
 "inspectionCapabilities": "",
 "noDataValue": 65536,
 "noDataValues": [
  65536,
  65536,
  65536,
  65536
 ],
 "minPixelSize": 0,
 "maxPixelSize": 0,
 "copyrightText": "",
 "serviceDataType": "esriImageServiceDataTypeGeneric",
 "serviceSourceType": "esriImageServiceSourceTypeDataset",
 "objectIdField": "",
 "fields": [],
 "capabilities": "Mensuration,Image,Metadata",
 "defaultMosaicMethod": "Center",
 "allowedMosaicMethods": "",
 "sortField": "",
 "sortValue": null,
 "sortAscending": true,
 "mosaicOperator": "First",
 "defaultCompressionQuality": 75,
 "defaultResamplingMethod": "Bilinear",
 "maxImageHeight": 4100,
 "maxImageWidth": 15000,
 "allowRasterFunction": true,
 "rasterFunctionInfos": [
  {
   "name": "QuickBird_SMA_2006_60",
   "description": "A raster function template.",
   "help": ""
  },
  {
   "name": "QuickBird_SMA_2006_10",
   "description": "A raster function template.",
   "help": ""
  },
  {
   "name": "QuickBird_SMA_2006_20",
   "description": "A raster function template.",
   "help": ""
  },
  {
   "name": "QuickBird_SMA_2006_30",
   "description": "A raster function template.",
   "help": ""
  },
  {
   "name": "QuickBird_SMA_2006_40",
   "description": "A raster function template.",
   "help": ""
  },
  {
   "name": "QuickBird_SMA_2006_50",
   "description": "A raster function template.",
   "help": ""
  },
  {
   "name": "None",
   "description": "",
   "help": ""
  }
 ],
 "rasterTypeInfos": [
  {
   "name": "Raster Dataset",
   "description": "Supports all ArcGIS Raster Datasets",
   "help": ""
  }
 ],
 "mensurationCapabilities": "Basic",
 "hasHistograms": true,
 "hasColormap": false,
 "hasRasterAttributeTable": false,
 "minScale": 0,
 "maxScale": 0,
 "exportTilesAllowed": false,
 "supportsStatistics": false,
 "supportsAdvancedQueries": false,
 "editFieldsInfo": null,
 "ownershipBasedAccessControlForRasters": null,
 "allowComputeTiePoints": false,
 "useStandardizedQueries": true,
 "advancedQueryCapabilities": {
  "useStandardizedQueries": true,
  "supportsStatistics": false,
  "supportsOrderBy": false,
  "supportsDistinct": false,
  "supportsPagination": false
 },
 "spatialReference": {
  "wkt2": "PROJCRS[\"PCS_MAG_Ant_Medellin\",BASEGEOGCRS[\"GCS_MAG_Ant_Medellin\",DATUM[\"D_DAT_MAG_Ant_Medellin\",ELLIPSOID[\"GRS1980_MAG_Ant_Medellin\",6379647.0,298.257222101,LENGTHUNIT[\"Meter\",1.0]]],PRIMEM[\"Greenwich\",0.0,ANGLEUNIT[\"Degree\",0.0174532925199433]],CS[ellipsoidal,2],ANGLEUNIT[\"Degree\",0.0174532925199433]],CONVERSION[\"Transverse_Mercator\",METHOD[\"Transverse_Mercator\"],PARAMETER[\"False_Easting\",835378.647,LENGTHUNIT[\"Meter\",1.0]],PARAMETER[\"False_Northing\",1180816.875,LENGTHUNIT[\"Meter\",1.0]],PARAMETER[\"Central_Meridian\",-75.56488694,ANGLEUNIT[\"Degree\",0.0174532925199433]],PARAMETER[\"Scale_Factor\",1.0,SCALEUNIT[\"Unity\",1.0]],PARAMETER[\"Latitude_Of_Origin\",6.229208889,ANGLEUNIT[\"Degree\",0.0174532925199433]]],CS[Cartesian,2],AXIS[\"Easting (X)\",east,ORDER[1]],AXIS[\"Northing (Y)\",north,ORDER[2]],LENGTHUNIT[\"Meter\",1.0]]",
  "wkt": "PROJCS[\"PCS_MAG_Ant_Medellin\",GEOGCS[\"GCS_MAG_Ant_Medellin\",DATUM[\"D_DAT_MAG_Ant_Medellin\",SPHEROID[\"GRS1980_MAG_Ant_Medellin\",6379647.0,298.257222101]],PRIMEM[\"Greenwich\",0.0],UNIT[\"Degree\",0.0174532925199433]],PROJECTION[\"Transverse_Mercator\"],PARAMETER[\"False_Easting\",835378.647],PARAMETER[\"False_Northing\",1180816.875],PARAMETER[\"Central_Meridian\",-75.56488694],PARAMETER[\"Scale_Factor\",1.0],PARAMETER[\"Latitude_Of_Origin\",6.229208889],UNIT[\"Meter\",1.0]]"
 }
}
