{
 "currentVersion": 11.3,
 "serviceDescription": "ServiciosImagen/Ortofoto_Medellin_2016_Centro",
 "name": "ServiciosImagen/Ortofoto_Medellin_2016_Centro",
 "description": "",
 "extent": {
  "xmin": 820803.9693722607,
  "ymin": 1173606.268834141,
  "xmax": 845387.2693722608,
  "ymax": 1190750.038834141,
  "spatialReference": {
   "wkid": 102768,
   "latestWkid": 6257
  }
 },
 "initialExtent": {
  "xmin": 820803.9693722607,
  "ymin": 1173606.268834141,
  "xmax": 845387.2693722608,
  "ymax": 1190750.038834141,
  "spatialReference": {
   "wkid": 102768,
   "latestWkid": 6257
  }
 },
 "fullExtent": {
  "xmin": 820803.9693722607,
  "ymin": 1173606.268834141,
  "xmax": 845387.2693722608,
  "ymax": 1190750.038834141,
  "spatialReference": {
   "wkid": 102768,
   "latestWkid": 6257
  }
 },
 "sortableFields": "",
 "bandCount": 5,
 "pixelType": "U8",
 "minValues": [
  0,
  0,
  0,
  0,
  0
 ],
 "maxValues": [
  255,
  255,
  255,
  255,
  255
 ],
 "meanValues": [
  31.013989198941,
  31.543443018961,
  27.97030985593,
  36.624470069604,
  90.963805236246
 ],
 "stdvValues": [
  50.519096507921,
  48.754270943884,
  44.71823059509,
  54.854754629994,
  122.15300435257
 ],
 "hasMultidimensions": false,
 "pixelSizeX": 0.07000000000000013,
 "pixelSizeY": 0.07000000000000008,
 "meanPixelSize": 0.0700000000000001,
 "datasetFormat": "ECW",
 "uncompressedSize": 430051470450,
 "blockWidth": 256,
 "blockHeight": 256,
 "compressionType": "ECW",
 "bandNames": [
  "Band #0",
  "Band #1",
  "Band #2",
  "Band #3",
  "AllOpacity"
 ],
 "allowCopy": true,
 "allowAnalysis": true,
 "itemAccess": false,
 "inspectionCapabilities": "",
 "minPixelSize": 0,
 "maxPixelSize": 0,
 "copyrightText": "",
 "serviceDataType": "esriImageServiceDataTypeGeneric",
 "serviceSourceType": "esriImageServiceSourceTypeDataset",
 "objectIdField": "",
 "fields": [],
 "capabilities": "Mensuration,Image,Metadata",
 "defaultMosaicMethod": "Center",
 "allowedMosaicMethods": "",
 "sortField": "",
 "sortValue": null,
 "sortAscending": true,
 "mosaicOperator": "First",
 "defaultCompressionQuality": 75,
 "defaultResamplingMethod": "Bilinear",
 "maxImageHeight": 4100,
 "maxImageWidth": 15000,
 "allowRasterFunction": true,
 "rasterFunctionInfos": [
  {
   "name": "Mosaico_Urbano_Medellin_2019",
   "description": "A raster function template.",
   "help": ""
  },
  {
   "name": "Ortofoto_Medellin_2021_EPSG6257",
   "description": "A raster function template.",
   "help": ""
  },
  {
   "name": "Ortofoto_Medellin_2019_RGB",
   "description": "A raster function template.",
   "help": ""
  },
  {
   "name": "Ortofoto_Medellin_2019_RGI",
   "description": "A raster function template.",
   "help": ""
  },
  {
   "name": "Ortofoto_Medellin_2019_RIB",
   "description": "A raster function template.",
   "help": ""
  },
  {
   "name": "Ortofoto_Medellin_2019_IGB",
   "description": "A raster function template.",
   "help": ""
  },
  {
   "name": "None",
   "description": "",
   "help": ""
  }
 ],
 "rasterTypeInfos": [
  {
   "name": "Raster Dataset",
   "description": "Supports all ArcGIS Raster Datasets",
   "help": ""
  }
 ],
 "mensurationCapabilities": "Basic",
 "hasHistograms": true,
 "hasColormap": false,
 "hasRasterAttributeTable": false,
 "minScale": 0,
 "maxScale": 0,
 "exportTilesAllowed": false,
 "supportsStatistics": false,
 "supportsAdvancedQueries": false,
 "editFieldsInfo": null,
 "ownershipBasedAccessControlForRasters": null,
 "allowComputeTiePoints": false,
 "useStandardizedQueries": true,
 "advancedQueryCapabilities": {
  "useStandardizedQueries": true,
  "supportsStatistics": false,
  "supportsOrderBy": false,
  "supportsDistinct": false,
  "supportsPagination": false
 },
 "spatialReference": {
  "wkid": 102768,
  "latestWkid": 6257
 },
 "resampling": false
}
