{ "currentVersion": 11.3, "serviceDescription": "
Aerografía de Medellín tomada en <\/span>el año <\/span>1994. La información corresponde a la zona del centro. Escala aproximada 1:10.000. Resolución de imagen aproximada de 75 cm<\/span><\/p><\/div><\/div><\/div>",
"name": "ServiciosImagen/Imagen1994",
"description": " Aerografía de Medellín tomada en <\/span>el año <\/span>1994. La información corresponde a la zona del centro. Escala aproximada 1:10.000. Resolución de imagen aproximada de 75 cm<\/span><\/p><\/div><\/div><\/div>",
"extent": {
"xmin": 833524.6558688232,
"ymin": 1180545.158403947,
"xmax": 836327.9867657038,
"ymax": 1186888.2721856923,
"spatialReference": {
"wkt2": "PROJCRS[\"PCS_MAG_Ant_Medellin\",BASEGEOGCRS[\"GCS_MAG_Ant_Medellin\",DATUM[\"D_DAT_MAG_Ant_Medellin\",ELLIPSOID[\"GRS1980_MAG_Ant_Medellin\",6379647.0,298.257222101,LENGTHUNIT[\"Meter\",1.0]]],PRIMEM[\"Greenwich\",0.0,ANGLEUNIT[\"Degree\",0.0174532925199433]],CS[ellipsoidal,2],ANGLEUNIT[\"Degree\",0.0174532925199433]],CONVERSION[\"Transverse_Mercator\",METHOD[\"Transverse_Mercator\"],PARAMETER[\"false_easting\",835378.647,LENGTHUNIT[\"Meter\",1.0]],PARAMETER[\"false_northing\",1180816.875,LENGTHUNIT[\"Meter\",1.0]],PARAMETER[\"central_meridian\",-75.56488694,ANGLEUNIT[\"Degree\",0.0174532925199433]],PARAMETER[\"scale_factor\",1.0,SCALEUNIT[\"Unity\",1.0]],PARAMETER[\"latitude_of_origin\",6.229208889,ANGLEUNIT[\"Degree\",0.0174532925199433]]],CS[Cartesian,2],AXIS[\"Easting (X)\",east,ORDER[1]],AXIS[\"Northing (Y)\",north,ORDER[2]],LENGTHUNIT[\"Meter\",1.0]]",
"wkt": "PROJCS[\"PCS_MAG_Ant_Medellin\",GEOGCS[\"GCS_MAG_Ant_Medellin\",DATUM[\"D_DAT_MAG_Ant_Medellin\",SPHEROID[\"GRS1980_MAG_Ant_Medellin\",6379647.0,298.257222101]],PRIMEM[\"Greenwich\",0.0],UNIT[\"Degree\",0.0174532925199433]],PROJECTION[\"Transverse_Mercator\"],PARAMETER[\"false_easting\",835378.647],PARAMETER[\"false_northing\",1180816.875],PARAMETER[\"central_meridian\",-75.56488694],PARAMETER[\"scale_factor\",1.0],PARAMETER[\"latitude_of_origin\",6.229208889],UNIT[\"Meter\",1.0]]"
}
},
"initialExtent": {
"xmin": 833524.6558688232,
"ymin": 1180545.158403947,
"xmax": 836327.9867657038,
"ymax": 1186888.2721856923,
"spatialReference": {
"wkt2": "PROJCRS[\"PCS_MAG_Ant_Medellin\",BASEGEOGCRS[\"GCS_MAG_Ant_Medellin\",DATUM[\"D_DAT_MAG_Ant_Medellin\",ELLIPSOID[\"GRS1980_MAG_Ant_Medellin\",6379647.0,298.257222101,LENGTHUNIT[\"Meter\",1.0]]],PRIMEM[\"Greenwich\",0.0,ANGLEUNIT[\"Degree\",0.0174532925199433]],CS[ellipsoidal,2],ANGLEUNIT[\"Degree\",0.0174532925199433]],CONVERSION[\"Transverse_Mercator\",METHOD[\"Transverse_Mercator\"],PARAMETER[\"false_easting\",835378.647,LENGTHUNIT[\"Meter\",1.0]],PARAMETER[\"false_northing\",1180816.875,LENGTHUNIT[\"Meter\",1.0]],PARAMETER[\"central_meridian\",-75.56488694,ANGLEUNIT[\"Degree\",0.0174532925199433]],PARAMETER[\"scale_factor\",1.0,SCALEUNIT[\"Unity\",1.0]],PARAMETER[\"latitude_of_origin\",6.229208889,ANGLEUNIT[\"Degree\",0.0174532925199433]]],CS[Cartesian,2],AXIS[\"Easting (X)\",east,ORDER[1]],AXIS[\"Northing (Y)\",north,ORDER[2]],LENGTHUNIT[\"Meter\",1.0]]",
"wkt": "PROJCS[\"PCS_MAG_Ant_Medellin\",GEOGCS[\"GCS_MAG_Ant_Medellin\",DATUM[\"D_DAT_MAG_Ant_Medellin\",SPHEROID[\"GRS1980_MAG_Ant_Medellin\",6379647.0,298.257222101]],PRIMEM[\"Greenwich\",0.0],UNIT[\"Degree\",0.0174532925199433]],PROJECTION[\"Transverse_Mercator\"],PARAMETER[\"false_easting\",835378.647],PARAMETER[\"false_northing\",1180816.875],PARAMETER[\"central_meridian\",-75.56488694],PARAMETER[\"scale_factor\",1.0],PARAMETER[\"latitude_of_origin\",6.229208889],UNIT[\"Meter\",1.0]]"
}
},
"fullExtent": {
"xmin": 833524.6558688232,
"ymin": 1180545.158403947,
"xmax": 836327.9867657038,
"ymax": 1186888.2721856923,
"spatialReference": {
"wkt2": "PROJCRS[\"PCS_MAG_Ant_Medellin\",BASEGEOGCRS[\"GCS_MAG_Ant_Medellin\",DATUM[\"D_DAT_MAG_Ant_Medellin\",ELLIPSOID[\"GRS1980_MAG_Ant_Medellin\",6379647.0,298.257222101,LENGTHUNIT[\"Meter\",1.0]]],PRIMEM[\"Greenwich\",0.0,ANGLEUNIT[\"Degree\",0.0174532925199433]],CS[ellipsoidal,2],ANGLEUNIT[\"Degree\",0.0174532925199433]],CONVERSION[\"Transverse_Mercator\",METHOD[\"Transverse_Mercator\"],PARAMETER[\"false_easting\",835378.647,LENGTHUNIT[\"Meter\",1.0]],PARAMETER[\"false_northing\",1180816.875,LENGTHUNIT[\"Meter\",1.0]],PARAMETER[\"central_meridian\",-75.56488694,ANGLEUNIT[\"Degree\",0.0174532925199433]],PARAMETER[\"scale_factor\",1.0,SCALEUNIT[\"Unity\",1.0]],PARAMETER[\"latitude_of_origin\",6.229208889,ANGLEUNIT[\"Degree\",0.0174532925199433]]],CS[Cartesian,2],AXIS[\"Easting (X)\",east,ORDER[1]],AXIS[\"Northing (Y)\",north,ORDER[2]],LENGTHUNIT[\"Meter\",1.0]]",
"wkt": "PROJCS[\"PCS_MAG_Ant_Medellin\",GEOGCS[\"GCS_MAG_Ant_Medellin\",DATUM[\"D_DAT_MAG_Ant_Medellin\",SPHEROID[\"GRS1980_MAG_Ant_Medellin\",6379647.0,298.257222101]],PRIMEM[\"Greenwich\",0.0],UNIT[\"Degree\",0.0174532925199433]],PROJECTION[\"Transverse_Mercator\"],PARAMETER[\"false_easting\",835378.647],PARAMETER[\"false_northing\",1180816.875],PARAMETER[\"central_meridian\",-75.56488694],PARAMETER[\"scale_factor\",1.0],PARAMETER[\"latitude_of_origin\",6.229208889],UNIT[\"Meter\",1.0]]"
}
},
"sortableFields": "",
"bandCount": 3,
"pixelType": "U8",
"minValues": [
1,
1,
1
],
"maxValues": [
255,
255,
255
],
"meanValues": [
150.50850688028086,
150.50850688028086,
150.50850688028086
],
"stdvValues": [
46.18647389663674,
46.18647389663674,
46.18647389663674
],
"hasMultidimensions": false,
"pixelSizeX": 0.45346666077007347,
"pixelSizeY": 0.4535006635980062,
"meanPixelSize": 0.45348366218403985,
"datasetFormat": "FGDBR",
"uncompressedSize": 259402902,
"blockWidth": 128,
"blockHeight": 128,
"compressionType": "NONE",
"bandNames": [
"Band_1",
"Band_2",
"Band_3"
],
"allowCopy": true,
"allowAnalysis": true,
"itemAccess": false,
"inspectionCapabilities": "",
"minPixelSize": 0,
"maxPixelSize": 0,
"copyrightText": "Departamento Administrativo de Planeación, Subdirección de Prospectiva e Información y Evaluación Estratégica, Centro de Documentación.",
"serviceDataType": "esriImageServiceDataTypeRGB",
"serviceSourceType": "esriImageServiceSourceTypeDataset",
"objectIdField": "",
"fields": [],
"capabilities": "Mensuration,Image,Metadata",
"defaultMosaicMethod": "Center",
"allowedMosaicMethods": "",
"sortField": "",
"sortValue": null,
"sortAscending": true,
"mosaicOperator": "First",
"defaultCompressionQuality": 75,
"defaultResamplingMethod": "Bilinear",
"maxImageHeight": 4100,
"maxImageWidth": 15000,
"allowRasterFunction": true,
"rasterFunctionInfos": [
{
"name": "None",
"description": "",
"help": ""
}
],
"rasterTypeInfos": [
{
"name": "Raster Dataset",
"description": "Supports all ArcGIS Raster Datasets",
"help": ""
}
],
"mensurationCapabilities": "Basic",
"hasHistograms": true,
"hasColormap": false,
"hasRasterAttributeTable": false,
"minScale": 0,
"maxScale": 0,
"exportTilesAllowed": false,
"supportsStatistics": false,
"supportsAdvancedQueries": false,
"editFieldsInfo": null,
"ownershipBasedAccessControlForRasters": null,
"allowComputeTiePoints": false,
"useStandardizedQueries": true,
"advancedQueryCapabilities": {
"useStandardizedQueries": true,
"supportsStatistics": false,
"supportsOrderBy": false,
"supportsDistinct": false,
"supportsPagination": false
},
"spatialReference": {
"wkt2": "PROJCRS[\"PCS_MAG_Ant_Medellin\",BASEGEOGCRS[\"GCS_MAG_Ant_Medellin\",DATUM[\"D_DAT_MAG_Ant_Medellin\",ELLIPSOID[\"GRS1980_MAG_Ant_Medellin\",6379647.0,298.257222101,LENGTHUNIT[\"Meter\",1.0]]],PRIMEM[\"Greenwich\",0.0,ANGLEUNIT[\"Degree\",0.0174532925199433]],CS[ellipsoidal,2],ANGLEUNIT[\"Degree\",0.0174532925199433]],CONVERSION[\"Transverse_Mercator\",METHOD[\"Transverse_Mercator\"],PARAMETER[\"false_easting\",835378.647,LENGTHUNIT[\"Meter\",1.0]],PARAMETER[\"false_northing\",1180816.875,LENGTHUNIT[\"Meter\",1.0]],PARAMETER[\"central_meridian\",-75.56488694,ANGLEUNIT[\"Degree\",0.0174532925199433]],PARAMETER[\"scale_factor\",1.0,SCALEUNIT[\"Unity\",1.0]],PARAMETER[\"latitude_of_origin\",6.229208889,ANGLEUNIT[\"Degree\",0.0174532925199433]]],CS[Cartesian,2],AXIS[\"Easting (X)\",east,ORDER[1]],AXIS[\"Northing (Y)\",north,ORDER[2]],LENGTHUNIT[\"Meter\",1.0]]",
"wkt": "PROJCS[\"PCS_MAG_Ant_Medellin\",GEOGCS[\"GCS_MAG_Ant_Medellin\",DATUM[\"D_DAT_MAG_Ant_Medellin\",SPHEROID[\"GRS1980_MAG_Ant_Medellin\",6379647.0,298.257222101]],PRIMEM[\"Greenwich\",0.0],UNIT[\"Degree\",0.0174532925199433]],PROJECTION[\"Transverse_Mercator\"],PARAMETER[\"false_easting\",835378.647],PARAMETER[\"false_northing\",1180816.875],PARAMETER[\"central_meridian\",-75.56488694],PARAMETER[\"scale_factor\",1.0],PARAMETER[\"latitude_of_origin\",6.229208889],UNIT[\"Meter\",1.0]]"
},
"resampling": false
}