{ "currentVersion": 11.3, "serviceDescription": "
Aerografía de Medellín tomada en <\/span>el año <\/span>1975<\/span>. La información corresponde a la zona del centro. Escala aproximada 1:10.000. Resolución de imagen aproximada de 75 cm<\/span><\/p><\/div><\/div><\/div>",
"name": "ServiciosImagen/Imagen1975",
"description": " Aerografía de Medellín tomada en <\/span>el año <\/span>1975<\/span>. La información corresponde a la zona del centro. Escala aproximada 1:10.000. Resolución de imagen aproximada de 75 cm<\/span><\/p><\/div><\/div><\/div>",
"extent": {
"xmin": 831839.1790649232,
"ymin": 1181156.7853043487,
"xmax": 837366.1702538328,
"ymax": 1185319.4244649685,
"spatialReference": {
"wkid": 102768,
"latestWkid": 6257
}
},
"initialExtent": {
"xmin": 831839.1790649232,
"ymin": 1181156.7853043487,
"xmax": 837366.1702538328,
"ymax": 1185319.4244649685,
"spatialReference": {
"wkid": 102768,
"latestWkid": 6257
}
},
"fullExtent": {
"xmin": 831839.1790649232,
"ymin": 1181156.7853043487,
"xmax": 837366.1702538328,
"ymax": 1185319.4244649685,
"spatialReference": {
"wkid": 102768,
"latestWkid": 6257
}
},
"sortableFields": "",
"bandCount": 3,
"pixelType": "U8",
"minValues": [
1,
1,
1
],
"maxValues": [
255,
255,
255
],
"meanValues": [
148.94039838086638,
148.94039838086638,
148.94039838086638
],
"stdvValues": [
57.83021132547249,
57.83021132547249,
57.83021132547249
],
"hasMultidimensions": false,
"pixelSizeX": 0.37410255779813356,
"pixelSizeY": 0.3741025577981321,
"meanPixelSize": 0.37410255779813284,
"datasetFormat": "FGDBR",
"uncompressedSize": 493170894,
"blockWidth": 128,
"blockHeight": 128,
"compressionType": "LZ77",
"bandNames": [
"Band_1",
"Band_2",
"Band_3"
],
"allowCopy": true,
"allowAnalysis": true,
"itemAccess": false,
"inspectionCapabilities": "",
"minPixelSize": 0,
"maxPixelSize": 0,
"copyrightText": "Departamento Administrativo de Planeación, Subdirección de Prospectiva e Información y Evaluación Estratégica, Centro de Documentación.",
"serviceDataType": "esriImageServiceDataTypeRGB",
"serviceSourceType": "esriImageServiceSourceTypeDataset",
"objectIdField": "",
"fields": [],
"capabilities": "Mensuration,Image,Metadata",
"defaultMosaicMethod": "Center",
"allowedMosaicMethods": "",
"sortField": "",
"sortValue": null,
"sortAscending": true,
"mosaicOperator": "First",
"defaultCompressionQuality": 75,
"defaultResamplingMethod": "Bilinear",
"maxImageHeight": 4100,
"maxImageWidth": 15000,
"allowRasterFunction": true,
"rasterFunctionInfos": [
{
"name": "None",
"description": "",
"help": ""
}
],
"rasterTypeInfos": [
{
"name": "Raster Dataset",
"description": "Supports all ArcGIS Raster Datasets",
"help": ""
}
],
"mensurationCapabilities": "Basic",
"hasHistograms": true,
"hasColormap": false,
"hasRasterAttributeTable": false,
"minScale": 0,
"maxScale": 0,
"exportTilesAllowed": false,
"supportsStatistics": false,
"supportsAdvancedQueries": false,
"editFieldsInfo": null,
"ownershipBasedAccessControlForRasters": null,
"allowComputeTiePoints": false,
"useStandardizedQueries": true,
"advancedQueryCapabilities": {
"useStandardizedQueries": true,
"supportsStatistics": false,
"supportsOrderBy": false,
"supportsDistinct": false,
"supportsPagination": false
},
"spatialReference": {
"wkid": 102768,
"latestWkid": 6257
},
"resampling": false
}