{
 "currentVersion": 11.3,
 "serviceDescription": "ServiciosImagen/Cinturon_Oriental",
 "name": "ServiciosImagen/Cinturon_Oriental",
 "description": "",
 "extent": {
  "xmin": 833904.9083980445,
  "ymin": 1174220.52674515,
  "xmax": 842058.8634484964,
  "ymax": 1189919.9387148179,
  "spatialReference": {
   "wkid": 102768,
   "latestWkid": 6257
  }
 },
 "initialExtent": {
  "xmin": 833904.9083980445,
  "ymin": 1174220.52674515,
  "xmax": 842058.8634484964,
  "ymax": 1189919.9387148179,
  "spatialReference": {
   "wkid": 102768,
   "latestWkid": 6257
  }
 },
 "fullExtent": {
  "xmin": 833904.9083980445,
  "ymin": 1174220.52674515,
  "xmax": 842058.8634484964,
  "ymax": 1189919.9387148179,
  "spatialReference": {
   "wkid": 102768,
   "latestWkid": 6257
  }
 },
 "sortableFields": "",
 "bandCount": 4,
 "pixelType": "U16",
 "minValues": [
  0,
  0,
  0,
  244
 ],
 "maxValues": [
  255,
  255,
  255,
  255
 ],
 "meanValues": [
  73.209990495941,
  82.142369137524,
  70.300377175305,
  254.57508679339
 ],
 "stdvValues": [
  40.43585098353,
  35.984269096699,
  35.468668993979,
  0.88060909912844
 ],
 "hasMultidimensions": false,
 "pixelSizeX": 0.10011486199999894,
 "pixelSizeY": 0.10011486199999851,
 "meanPixelSize": 0.10011486199999872,
 "datasetFormat": "TIFF",
 "uncompressedSize": 102174984352,
 "blockWidth": 128,
 "blockHeight": 128,
 "compressionType": "LZW",
 "bandNames": [
  "Band_1",
  "Band_2",
  "Band_3",
  "Band_4"
 ],
 "allowCopy": true,
 "allowAnalysis": true,
 "itemAccess": false,
 "inspectionCapabilities": "",
 "noDataValue": 256,
 "noDataValues": [
  256,
  256,
  256,
  256
 ],
 "minPixelSize": 0,
 "maxPixelSize": 0,
 "copyrightText": "",
 "serviceDataType": "esriImageServiceDataTypeGeneric",
 "serviceSourceType": "esriImageServiceSourceTypeDataset",
 "objectIdField": "",
 "fields": [],
 "capabilities": "Mensuration,Image,Metadata",
 "defaultMosaicMethod": "Center",
 "allowedMosaicMethods": "",
 "sortField": "",
 "sortValue": null,
 "sortAscending": true,
 "mosaicOperator": "First",
 "defaultCompressionQuality": 75,
 "defaultResamplingMethod": "Bilinear",
 "maxImageHeight": 4100,
 "maxImageWidth": 15000,
 "allowRasterFunction": true,
 "rasterFunctionInfos": [
  {
   "name": "cinturon_e_m_med",
   "description": "A raster function template.",
   "help": ""
  },
  {
   "name": "Cinturon_w_m_med",
   "description": "A raster function template.",
   "help": ""
  },
  {
   "name": "None",
   "description": "",
   "help": ""
  }
 ],
 "rasterTypeInfos": [
  {
   "name": "Raster Dataset",
   "description": "Supports all ArcGIS Raster Datasets",
   "help": ""
  }
 ],
 "mensurationCapabilities": "Basic",
 "hasHistograms": true,
 "hasColormap": false,
 "hasRasterAttributeTable": false,
 "minScale": 0,
 "maxScale": 0,
 "exportTilesAllowed": false,
 "supportsStatistics": false,
 "supportsAdvancedQueries": false,
 "editFieldsInfo": null,
 "ownershipBasedAccessControlForRasters": null,
 "allowComputeTiePoints": false,
 "useStandardizedQueries": true,
 "advancedQueryCapabilities": {
  "useStandardizedQueries": true,
  "supportsStatistics": false,
  "supportsOrderBy": false,
  "supportsDistinct": false,
  "supportsPagination": false
 },
 "spatialReference": {
  "wkid": 102768,
  "latestWkid": 6257
 }
}
