{
 "currentVersion": 11.3,
 "serviceDescription": "ServiciosImagen/Antioquia_Oriente_5000",
 "name": "ServiciosImagen/Antioquia_Oriente_5000",
 "description": "",
 "extent": {
  "xmin": 841735.3218994141,
  "ymin": 1138401.0627075215,
  "xmax": 885321.1218994141,
  "ymax": 1194738.9627075214,
  "spatialReference": {
   "wkt2": "PROJCRS[\"MAGNA_Santuario_Antioquia_2010\",BASEGEOGCRS[\"GCS_MAGNA\",DATUM[\"D_MAGNA\",ELLIPSOID[\"GRS_1980\",6378137.0,298.257222101,LENGTHUNIT[\"Meter\",1.0]]],PRIMEM[\"Greenwich\",0.0,ANGLEUNIT[\"Degree\",0.0174532925199433]],CS[ellipsoidal,2],ANGLEUNIT[\"Degree\",0.0174532925199433]],CONVERSION[\"IGAC_Plano_Cartesiano\",METHOD[\"IGAC_Plano_Cartesiano\"],PARAMETER[\"False_Easting\",868571.074,LENGTHUNIT[\"Meter\",1.0]],PARAMETER[\"False_Northing\",1170491.118,LENGTHUNIT[\"Meter\",1.0]],PARAMETER[\"Longitude_Of_Center\",-75.26482917,ANGLEUNIT[\"Degree\",0.0174532925199433]],PARAMETER[\"Latitude_Of_Center\",6.136616944,ANGLEUNIT[\"Degree\",0.0174532925199433]],PARAMETER[\"Height\",2090.0,LENGTHUNIT[\"Meter\",1.0]]],CS[Cartesian,2],AXIS[\"Easting (X)\",east,ORDER[1]],AXIS[\"Northing (Y)\",north,ORDER[2]],LENGTHUNIT[\"Meter\",1.0]]",
   "wkt": "PROJCS[\"MAGNA_Santuario_Antioquia_2010\",GEOGCS[\"GCS_MAGNA\",DATUM[\"D_MAGNA\",SPHEROID[\"GRS_1980\",6378137.0,298.257222101]],PRIMEM[\"Greenwich\",0.0],UNIT[\"Degree\",0.0174532925199433]],PROJECTION[\"IGAC_Plano_Cartesiano\"],PARAMETER[\"False_Easting\",868571.074],PARAMETER[\"False_Northing\",1170491.118],PARAMETER[\"Longitude_Of_Center\",-75.26482917],PARAMETER[\"Latitude_Of_Center\",6.136616944],PARAMETER[\"Height\",2090.0],UNIT[\"Meter\",1.0]]"
  }
 },
 "initialExtent": {
  "xmin": 841735.3218994141,
  "ymin": 1138401.0627075215,
  "xmax": 885321.1218994141,
  "ymax": 1194738.9627075214,
  "spatialReference": {
   "wkt2": "PROJCRS[\"MAGNA_Santuario_Antioquia_2010\",BASEGEOGCRS[\"GCS_MAGNA\",DATUM[\"D_MAGNA\",ELLIPSOID[\"GRS_1980\",6378137.0,298.257222101,LENGTHUNIT[\"Meter\",1.0]]],PRIMEM[\"Greenwich\",0.0,ANGLEUNIT[\"Degree\",0.0174532925199433]],CS[ellipsoidal,2],ANGLEUNIT[\"Degree\",0.0174532925199433]],CONVERSION[\"IGAC_Plano_Cartesiano\",METHOD[\"IGAC_Plano_Cartesiano\"],PARAMETER[\"False_Easting\",868571.074,LENGTHUNIT[\"Meter\",1.0]],PARAMETER[\"False_Northing\",1170491.118,LENGTHUNIT[\"Meter\",1.0]],PARAMETER[\"Longitude_Of_Center\",-75.26482917,ANGLEUNIT[\"Degree\",0.0174532925199433]],PARAMETER[\"Latitude_Of_Center\",6.136616944,ANGLEUNIT[\"Degree\",0.0174532925199433]],PARAMETER[\"Height\",2090.0,LENGTHUNIT[\"Meter\",1.0]]],CS[Cartesian,2],AXIS[\"Easting (X)\",east,ORDER[1]],AXIS[\"Northing (Y)\",north,ORDER[2]],LENGTHUNIT[\"Meter\",1.0]]",
   "wkt": "PROJCS[\"MAGNA_Santuario_Antioquia_2010\",GEOGCS[\"GCS_MAGNA\",DATUM[\"D_MAGNA\",SPHEROID[\"GRS_1980\",6378137.0,298.257222101]],PRIMEM[\"Greenwich\",0.0],UNIT[\"Degree\",0.0174532925199433]],PROJECTION[\"IGAC_Plano_Cartesiano\"],PARAMETER[\"False_Easting\",868571.074],PARAMETER[\"False_Northing\",1170491.118],PARAMETER[\"Longitude_Of_Center\",-75.26482917],PARAMETER[\"Latitude_Of_Center\",6.136616944],PARAMETER[\"Height\",2090.0],UNIT[\"Meter\",1.0]]"
  }
 },
 "fullExtent": {
  "xmin": 841735.3218994141,
  "ymin": 1138401.0627075215,
  "xmax": 885321.1218994141,
  "ymax": 1194738.9627075214,
  "spatialReference": {
   "wkt2": "PROJCRS[\"MAGNA_Santuario_Antioquia_2010\",BASEGEOGCRS[\"GCS_MAGNA\",DATUM[\"D_MAGNA\",ELLIPSOID[\"GRS_1980\",6378137.0,298.257222101,LENGTHUNIT[\"Meter\",1.0]]],PRIMEM[\"Greenwich\",0.0,ANGLEUNIT[\"Degree\",0.0174532925199433]],CS[ellipsoidal,2],ANGLEUNIT[\"Degree\",0.0174532925199433]],CONVERSION[\"IGAC_Plano_Cartesiano\",METHOD[\"IGAC_Plano_Cartesiano\"],PARAMETER[\"False_Easting\",868571.074,LENGTHUNIT[\"Meter\",1.0]],PARAMETER[\"False_Northing\",1170491.118,LENGTHUNIT[\"Meter\",1.0]],PARAMETER[\"Longitude_Of_Center\",-75.26482917,ANGLEUNIT[\"Degree\",0.0174532925199433]],PARAMETER[\"Latitude_Of_Center\",6.136616944,ANGLEUNIT[\"Degree\",0.0174532925199433]],PARAMETER[\"Height\",2090.0,LENGTHUNIT[\"Meter\",1.0]]],CS[Cartesian,2],AXIS[\"Easting (X)\",east,ORDER[1]],AXIS[\"Northing (Y)\",north,ORDER[2]],LENGTHUNIT[\"Meter\",1.0]]",
   "wkt": "PROJCS[\"MAGNA_Santuario_Antioquia_2010\",GEOGCS[\"GCS_MAGNA\",DATUM[\"D_MAGNA\",SPHEROID[\"GRS_1980\",6378137.0,298.257222101]],PRIMEM[\"Greenwich\",0.0],UNIT[\"Degree\",0.0174532925199433]],PROJECTION[\"IGAC_Plano_Cartesiano\"],PARAMETER[\"False_Easting\",868571.074],PARAMETER[\"False_Northing\",1170491.118],PARAMETER[\"Longitude_Of_Center\",-75.26482917],PARAMETER[\"Latitude_Of_Center\",6.136616944],PARAMETER[\"Height\",2090.0],UNIT[\"Meter\",1.0]]"
  }
 },
 "sortableFields": "",
 "bandCount": 4,
 "pixelType": "U8",
 "minValues": [
  1,
  1,
  1,
  1
 ],
 "maxValues": [
  255,
  255,
  255,
  255
 ],
 "meanValues": [
  91.404273171799,
  94.431120924433,
  81.482117545755,
  66.471313090141
 ],
 "stdvValues": [
  38.070006543296,
  34.863242876451,
  34.534084335369,
  33.230312940742
 ],
 "hasMultidimensions": false,
 "pixelSizeX": 0.3000000000000003,
 "pixelSizeY": 0.2999999999999995,
 "meanPixelSize": 0.29999999999999993,
 "datasetFormat": "IMAGINE Image",
 "uncompressedSize": 109134775192,
 "blockWidth": 512,
 "blockHeight": 512,
 "compressionType": "None",
 "bandNames": [
  "Layer_1",
  "Layer_2",
  "Layer_3",
  "Layer_4"
 ],
 "allowCopy": true,
 "allowAnalysis": true,
 "itemAccess": false,
 "inspectionCapabilities": "",
 "noDataValue": 0,
 "noDataValues": [
  0,
  0,
  0,
  0
 ],
 "minPixelSize": 0,
 "maxPixelSize": 0,
 "copyrightText": "",
 "serviceDataType": "esriImageServiceDataTypeGeneric",
 "serviceSourceType": "esriImageServiceSourceTypeDataset",
 "objectIdField": "",
 "fields": [],
 "capabilities": "Mensuration,Image,Metadata",
 "defaultMosaicMethod": "Center",
 "allowedMosaicMethods": "",
 "sortField": "",
 "sortValue": null,
 "sortAscending": true,
 "mosaicOperator": "First",
 "defaultCompressionQuality": 75,
 "defaultResamplingMethod": "Bilinear",
 "maxImageHeight": 4100,
 "maxImageWidth": 15000,
 "allowRasterFunction": true,
 "rasterFunctionInfos": [
  {
   "name": "Antioquia_Origen_Santuario_5000",
   "description": "A raster function template.",
   "help": ""
  },
  {
   "name": "Ortofoto_Medellin_RGBI_NW",
   "description": "A raster function template.",
   "help": ""
  },
  {
   "name": "None",
   "description": "",
   "help": ""
  }
 ],
 "rasterTypeInfos": [
  {
   "name": "Raster Dataset",
   "description": "Supports all ArcGIS Raster Datasets",
   "help": ""
  }
 ],
 "mensurationCapabilities": "Basic",
 "hasHistograms": true,
 "hasColormap": false,
 "hasRasterAttributeTable": false,
 "minScale": 0,
 "maxScale": 0,
 "exportTilesAllowed": false,
 "supportsStatistics": false,
 "supportsAdvancedQueries": false,
 "editFieldsInfo": null,
 "ownershipBasedAccessControlForRasters": null,
 "allowComputeTiePoints": false,
 "useStandardizedQueries": true,
 "advancedQueryCapabilities": {
  "useStandardizedQueries": true,
  "supportsStatistics": false,
  "supportsOrderBy": false,
  "supportsDistinct": false,
  "supportsPagination": false
 },
 "spatialReference": {
  "wkt2": "PROJCRS[\"MAGNA_Santuario_Antioquia_2010\",BASEGEOGCRS[\"GCS_MAGNA\",DATUM[\"D_MAGNA\",ELLIPSOID[\"GRS_1980\",6378137.0,298.257222101,LENGTHUNIT[\"Meter\",1.0]]],PRIMEM[\"Greenwich\",0.0,ANGLEUNIT[\"Degree\",0.0174532925199433]],CS[ellipsoidal,2],ANGLEUNIT[\"Degree\",0.0174532925199433]],CONVERSION[\"IGAC_Plano_Cartesiano\",METHOD[\"IGAC_Plano_Cartesiano\"],PARAMETER[\"False_Easting\",868571.074,LENGTHUNIT[\"Meter\",1.0]],PARAMETER[\"False_Northing\",1170491.118,LENGTHUNIT[\"Meter\",1.0]],PARAMETER[\"Longitude_Of_Center\",-75.26482917,ANGLEUNIT[\"Degree\",0.0174532925199433]],PARAMETER[\"Latitude_Of_Center\",6.136616944,ANGLEUNIT[\"Degree\",0.0174532925199433]],PARAMETER[\"Height\",2090.0,LENGTHUNIT[\"Meter\",1.0]]],CS[Cartesian,2],AXIS[\"Easting (X)\",east,ORDER[1]],AXIS[\"Northing (Y)\",north,ORDER[2]],LENGTHUNIT[\"Meter\",1.0]]",
  "wkt": "PROJCS[\"MAGNA_Santuario_Antioquia_2010\",GEOGCS[\"GCS_MAGNA\",DATUM[\"D_MAGNA\",SPHEROID[\"GRS_1980\",6378137.0,298.257222101]],PRIMEM[\"Greenwich\",0.0],UNIT[\"Degree\",0.0174532925199433]],PROJECTION[\"IGAC_Plano_Cartesiano\"],PARAMETER[\"False_Easting\",868571.074],PARAMETER[\"False_Northing\",1170491.118],PARAMETER[\"Longitude_Of_Center\",-75.26482917],PARAMETER[\"Latitude_Of_Center\",6.136616944],PARAMETER[\"Height\",2090.0],UNIT[\"Meter\",1.0]]"
 }
}
